BEGIN:VCALENDAR
VERSION:2.0
PRODID:-//Team Defence Information - ECPv6.15.16.1//NONSGML v1.0//EN
CALSCALE:GREGORIAN
METHOD:PUBLISH
X-ORIGINAL-URL:https://www.teamdefence.info
X-WR-CALDESC:Events for Team Defence Information
REFRESH-INTERVAL;VALUE=DURATION:PT1H
X-Robots-Tag:noindex
X-PUBLISHED-TTL:PT1H
BEGIN:VTIMEZONE
TZID:UTC
BEGIN:STANDARD
TZOFFSETFROM:+0000
TZOFFSETTO:+0000
TZNAME:UTC
DTSTART:20210101T000000
END:STANDARD
END:VTIMEZONE
BEGIN:VEVENT
DTSTART;TZID=UTC:20230207T090000
DTEND;TZID=UTC:20230208T120000
DTSTAMP:20260419T232535
CREATED:20221110T095901Z
LAST-MODIFIED:20230125T135151Z
UID:242047-1675760400-1675857600@www.teamdefence.info
SUMMARY:Model Based Product Support Task Team (MBPSTT) Face to Face Workshop
DESCRIPTION:Please log-in to view this content.
URL:https://www.teamdefence.info/event/model-based-product-support-task-team-mbpstt-face-to-face-workshop/
LOCATION:TD-Info\, 6A Pinkers Court\, Briarlands Office Park\, Bristol\, BS35 3QH\, United Kingdom
CATEGORIES:Standards
ORGANIZER;CN="Jack Thompson":MAILTO:jack.thompson@teamdefence.info
END:VEVENT
BEGIN:VEVENT
DTSTART;TZID=UTC:20221201T133000
DTEND;TZID=UTC:20221201T150000
DTSTAMP:20260419T232536
CREATED:20220427T153218Z
LAST-MODIFIED:20221122T101157Z
UID:240270-1669901400-1669906800@www.teamdefence.info
SUMMARY:UK Simplified Technical English Working Group
DESCRIPTION:Please log-in to view this content.
URL:https://www.teamdefence.info/event/uk-simplified-technical-english-working-group-3/
CATEGORIES:Members Only,UK STEWG
END:VEVENT
BEGIN:VEVENT
DTSTART;TZID=UTC:20221108T134500
DTEND;TZID=UTC:20221108T160000
DTSTAMP:20260419T232536
CREATED:20221008T151816Z
LAST-MODIFIED:20221014T160641Z
UID:241891-1667915100-1667923200@www.teamdefence.info
SUMMARY:JISCOT Meeting
DESCRIPTION:Please log-in to view this content.
URL:https://www.teamdefence.info/event/jiscot-meeting-4/
LOCATION:TD-Info\, 6A Pinkers Court\, Briarlands Office Park\, Bristol\, BS35 3QH\, United Kingdom
CATEGORIES:JISCOT,Standards
ORGANIZER;CN="Jack Thompson":MAILTO:jack.thompson@teamdefence.info
END:VEVENT
BEGIN:VEVENT
DTSTART;TZID=UTC:20221004T103000
DTEND;TZID=UTC:20221004T123000
DTSTAMP:20260419T232536
CREATED:20220928T115342Z
LAST-MODIFIED:20220928T115550Z
UID:241793-1664879400-1664886600@www.teamdefence.info
SUMMARY:JISCOT Meeting
DESCRIPTION:Please log-in to view this content.
URL:https://www.teamdefence.info/event/jiscot-meeting-3/
CATEGORIES:JISCOT,Standards
END:VEVENT
BEGIN:VEVENT
DTSTART;TZID=UTC:20220908T133000
DTEND;TZID=UTC:20220908T150000
DTSTAMP:20260419T232536
CREATED:20220427T150712Z
LAST-MODIFIED:20220707T124401Z
UID:240246-1662643800-1662649200@www.teamdefence.info
SUMMARY:UK Simplified Technical English Working Group
DESCRIPTION:Please log-in to view this content.
URL:https://www.teamdefence.info/event/uk-simplified-technical-english-working-group-2/
CATEGORIES:Members Only,UK STEWG
END:VEVENT
BEGIN:VEVENT
DTSTART;TZID=UTC:20220907T134500
DTEND;TZID=UTC:20220907T160000
DTSTAMP:20260419T232536
CREATED:20220711T093920Z
LAST-MODIFIED:20220711T093922Z
UID:241093-1662558300-1662566400@www.teamdefence.info
SUMMARY:JISCOT Meeting
DESCRIPTION:Please log-in to view this content.
URL:https://www.teamdefence.info/event/jiscot-meeting-2/
LOCATION:TD-Info\, 6A Pinkers Court\, Briarlands Office Park\, Bristol\, BS35 3QH\, United Kingdom
CATEGORIES:JISCOT,Standards
END:VEVENT
BEGIN:VEVENT
DTSTART;TZID=UTC:20220616T133000
DTEND;TZID=UTC:20220616T150000
DTSTAMP:20260419T232536
CREATED:20220427T105946Z
LAST-MODIFIED:20220707T125108Z
UID:240170-1655386200-1655391600@www.teamdefence.info
SUMMARY:UK Simplified Technical English Working Group
DESCRIPTION:Please log-in to view this content.
URL:https://www.teamdefence.info/event/uk-simplified-technical-english-working-group/
CATEGORIES:Members Only,UK STEWG
END:VEVENT
BEGIN:VEVENT
DTSTART;TZID=UTC:20220524T134500
DTEND;TZID=UTC:20220524T160000
DTSTAMP:20260419T232536
CREATED:20220516T110817Z
LAST-MODIFIED:20220516T165422Z
UID:240521-1653399900-1653408000@www.teamdefence.info
SUMMARY:JISCOT Meeting
DESCRIPTION:Please log-in to view this content.
URL:https://www.teamdefence.info/event/jiscot-meeting/
LOCATION:TD-Info\, 6A Pinkers Court\, Briarlands Office Park\, Bristol\, BS35 3QH\, United Kingdom
CATEGORIES:JISCOT,Standards
END:VEVENT
END:VCALENDAR