BEGIN:VCALENDAR
VERSION:2.0
PRODID:-//Team Defence Information - ECPv6.15.16.1//NONSGML v1.0//EN
CALSCALE:GREGORIAN
METHOD:PUBLISH
X-ORIGINAL-URL:https://www.teamdefence.info
X-WR-CALDESC:Events for Team Defence Information
REFRESH-INTERVAL;VALUE=DURATION:PT1H
X-Robots-Tag:noindex
X-PUBLISHED-TTL:PT1H
BEGIN:VTIMEZONE
TZID:UTC
BEGIN:STANDARD
TZOFFSETFROM:+0000
TZOFFSETTO:+0000
TZNAME:UTC
DTSTART:20230101T000000
END:STANDARD
END:VTIMEZONE
BEGIN:VEVENT
DTSTART;TZID=UTC:20241212T140000
DTEND;TZID=UTC:20241212T160000
DTSTAMP:20260421T080242
CREATED:20231214T134846Z
LAST-MODIFIED:20241212T100342Z
UID:245307-1734012000-1734019200@www.teamdefence.info
SUMMARY:JISCOT Meeting - 12 December 2024
DESCRIPTION:The Mission of the Joint Information Standards Co-ordination Team (JISCOT) is to co-ordinate\, for the UK\, the MOD and Industry representation in the identification\, development\, deployment and maintenance of a coherent set of standards to meet the needs of UK Defence from this global activity within the scope of Team Defence Information (TD-Info) activity. \nOur next meeting will be taking place virtually using Microsoft Teams and will begin at 14.00. \nIf you have any questions please contact Kelly.gough@teamdefence.info \n  \n			\n			\n				\n				\n				\n				\n				\n				\n				\n				\n				\n				\n			\n				\n				\n				\n				\n				\nRegister here\n\n\n\n\n\n			\n				\n				\n				\n				\n				\nAgenda
URL:https://www.teamdefence.info/event/jiscot-12-december-2024/
LOCATION:Virtual – MS Teams
CATEGORIES:JISCOT,Standards
END:VEVENT
END:VCALENDAR