BEGIN:VCALENDAR
VERSION:2.0
PRODID:-//Team Defence Information - ECPv6.15.16.1//NONSGML v1.0//EN
CALSCALE:GREGORIAN
METHOD:PUBLISH
X-ORIGINAL-URL:https://www.teamdefence.info
X-WR-CALDESC:Events for Team Defence Information
REFRESH-INTERVAL;VALUE=DURATION:PT1H
X-Robots-Tag:noindex
X-PUBLISHED-TTL:PT1H
BEGIN:VTIMEZONE
TZID:UTC
BEGIN:STANDARD
TZOFFSETFROM:+0000
TZOFFSETTO:+0000
TZNAME:UTC
DTSTART:20230101T000000
END:STANDARD
END:VTIMEZONE
BEGIN:VEVENT
DTSTART;TZID=UTC:20240311T213000
DTEND;TZID=UTC:20240311T233000
DTSTAMP:20260423T101250
CREATED:20240302T082715Z
LAST-MODIFIED:20240302T082718Z
UID:245904-1710192600-1710199800@www.teamdefence.info
SUMMARY:UK Simplified Technical English Working Group
DESCRIPTION:The UK Simplified Technical English Working Group (UKSTEWG) is a group of representatives from leading UK organisations and companies that use Simplified Technical English (STE). The main purpose of the UKSTEWG is to understand the UK’s requirement for STE\, promote STE in the UK\, be a source of information and guidance on STE\, and represent UK changes and recommendations to the Simplified Technical English Maintenance Group (STEMG). \nIf you are interested in joining the UKSTEWG\, or have questions about STE\, please contact TD-Info here.
URL:https://www.teamdefence.info/event/uk-simplified-technical-english-working-group-6/
CATEGORIES:Members Only,UK STEWG
END:VEVENT
BEGIN:VEVENT
DTSTART;TZID=UTC:20240318T134500
DTEND;TZID=UTC:20240318T160000
DTSTAMP:20260423T101250
CREATED:20231214T125554Z
LAST-MODIFIED:20240212T143526Z
UID:245288-1710769500-1710777600@www.teamdefence.info
SUMMARY:JISCOT Meeting - 18 March 2024
DESCRIPTION:The Mission of the Joint Information Standards Co-ordination Team (JISCOT) is to co-ordinate\, for the UK\, the MOD and Industry representation in the identification\, development\, deployment and maintenance of a coherent set of standards to meet the needs of UK Defence from this global activity within the scope of Team Defence Information (TD-Info) activity. \nOur next meeting will be taking place virtually using Microsoft Teams\, and In-Person at the Team Defence Office in Rudgeway on 18th March 2024. The meeting will begin at 13.45 \nThe venue for those attending in person is the Team Defence Information Office\, 6a Pinkers Court\, Briarlands Office Park\, Gloucester road\, Rudgeway\, BS35 3QH. \nIf you have any questions please contact Kelly.gough@teamdefence.info \n  \n			\n			\n				\n				\n				\n				\n				\n				\n				\n				\n				\n				\n			\n				\n				\n				\n				\n				\nRegister here
URL:https://www.teamdefence.info/event/jiscot-11-january-2024/
LOCATION:TD-Info\, 6A Pinkers Court\, Briarlands Office Park\, Bristol\, BS35 3QH\, United Kingdom
CATEGORIES:JISCOT,Standards
END:VEVENT
END:VCALENDAR