BEGIN:VCALENDAR
VERSION:2.0
PRODID:-//Team Defence Information - ECPv6.15.16.1//NONSGML v1.0//EN
CALSCALE:GREGORIAN
METHOD:PUBLISH
X-WR-CALNAME:Team Defence Information
X-ORIGINAL-URL:https://www.teamdefence.info
X-WR-CALDESC:Events for Team Defence Information
REFRESH-INTERVAL;VALUE=DURATION:PT1H
X-Robots-Tag:noindex
X-PUBLISHED-TTL:PT1H
BEGIN:VTIMEZONE
TZID:UTC
BEGIN:STANDARD
TZOFFSETFROM:+0000
TZOFFSETTO:+0000
TZNAME:UTC
DTSTART:20250101T000000
END:STANDARD
END:VTIMEZONE
BEGIN:VEVENT
DTSTART;TZID=UTC:20260122T150000
DTEND;TZID=UTC:20260122T160000
DTSTAMP:20260419T234629
CREATED:20251120T134046Z
LAST-MODIFIED:20251121T093049Z
UID:249629-1769094000-1769097600@www.teamdefence.info
SUMMARY:PJ TAMPA Digital Thread Working Group Community of Practice session
DESCRIPTION:The AdMaaS Digital Thread Working Group Meeting is held on the 3rd Thursday of every month virtually via MS Teams. \nIf you wish to attend please register your attendance using the register here button. You will receive the MS Teams link upon registration. To place this into your calendar please download the ics file on your confirmation email. \nIf you have any questions regarding these meetings please contact Edit.Barbantan100@mod.gov.uk \nIf you have any questions regarding registration please contact demi.bowler@teamdefence.info \n			\n			\n				\n				\n				\n				\n				\n				\n				\n				\n				\n				\n			\n				\n				\n				\n				\n				\nRegister here
URL:https://www.teamdefence.info/event/admaas-digital-thread-working-group-meeting/
LOCATION:Virtual – MS Teams
CATEGORIES:AdM WG,CDLS AdM as a Service WG,RTI,RTI-Public
END:VEVENT
END:VCALENDAR