BEGIN:VCALENDAR
VERSION:2.0
PRODID:-//Team Defence Information - ECPv6.15.16.1//NONSGML v1.0//EN
CALSCALE:GREGORIAN
METHOD:PUBLISH
X-ORIGINAL-URL:https://www.teamdefence.info
X-WR-CALDESC:Events for Team Defence Information
REFRESH-INTERVAL;VALUE=DURATION:PT1H
X-Robots-Tag:noindex
X-PUBLISHED-TTL:PT1H
BEGIN:VTIMEZONE
TZID:UTC
BEGIN:STANDARD
TZOFFSETFROM:+0000
TZOFFSETTO:+0000
TZNAME:UTC
DTSTART:20230101T000000
END:STANDARD
END:VTIMEZONE
BEGIN:VEVENT
DTSTART;TZID=UTC:20240123T100000
DTEND;TZID=UTC:20240123T120000
DTSTAMP:20260423T104423
CREATED:20231205T112525Z
LAST-MODIFIED:20231206T150638Z
UID:245163-1706004000-1706011200@www.teamdefence.info
SUMMARY:AdM as a Service Inventory Management Working Group (IMWG)
DESCRIPTION:The aim of the IMWG is to identify IM issues that would prevent Project TAMPA Spirals proceeding & facilitate wider pan MoD/Industry progress and engagement on AdM IM issues. \nAgenda for the IMWG below\, thanks. \nAttendee list  \nNotes & Actions from last meeting(s) \nUpdates: NATO Codification Committee\, Local Manufacturing Policy\, Obsolescence Management Policy\, Procurement Policy \nIndustry feedback on AM projects (lessons learned\, issues\, experiences etc.) – please feed in any points. \nProject TAMPA – Update & LFE \nAOB \nDONM \n			\n			\n				\n				\n				\n				\n				\n				\n				\n				\n				\n				\n			\n				\n				\n				\n				\n				\nRegister here
URL:https://www.teamdefence.info/event/adm-as-a-service-inventory-management-working-group-imwg/
LOCATION:virtual
CATEGORIES:AdM WG,CDLS AdM as a Service WG,RTI-Public
END:VEVENT
END:VCALENDAR