BEGIN:VCALENDAR
VERSION:2.0
PRODID:-//Team Defence Information - ECPv6.15.16.1//NONSGML v1.0//EN
CALSCALE:GREGORIAN
METHOD:PUBLISH
X-ORIGINAL-URL:https://www.teamdefence.info
X-WR-CALDESC:Events for Team Defence Information
REFRESH-INTERVAL;VALUE=DURATION:PT1H
X-Robots-Tag:noindex
X-PUBLISHED-TTL:PT1H
BEGIN:VTIMEZONE
TZID:UTC
BEGIN:STANDARD
TZOFFSETFROM:+0000
TZOFFSETTO:+0000
TZNAME:UTC
DTSTART:20240101T000000
END:STANDARD
END:VTIMEZONE
BEGIN:VEVENT
DTSTART;TZID=UTC:20251021T083000
DTEND;TZID=UTC:20251021T163000
DTSTAMP:20260420T214158
CREATED:20241023T090906Z
LAST-MODIFIED:20251014T111307Z
UID:247234-1761035400-1761064200@www.teamdefence.info
SUMMARY:Additive Manufacturing as a Service Challenge Working Groups October 2025 Event
DESCRIPTION:The final Additive Manufacturing as a Service Challenge (a.k.a Project TAMPA) Face-to-Face Working Group Event of the year will be held on Tuesday 21st October 2025 at the Manufacturing Technology Centre (MTC) in Coventry as this event is kindly sponsored by the MTC and the AWE. \nThe aim and agenda\, which are subject to change\, are as follows: \nAim: To outline Spiral 3 and input into the design of Spiral 4. \nAgenda: \n08:45   Arrival – Tea & Coffee \n09:15   Welcome & Agenda \n09:25   State of the Nation Intro \n09:45   Executive Group Update \n10:00   Updates on Defence Reform\, the AM as a Service Challenge & Advanced Manufacturing Strategy \n10:10   NP Aerospace Spiral 2 Knowledge Share \n10:25   US DoD Introduction \n10:45   America Makes Introduction \n11:05   Coffee break (30 min) \n11:35   HVMC Alliance Introduction \n11:50   Assurance of AM facilities \n12:20   Chinook Printed Parts \n12:45   Typhoon Printed Parts \n13:05   Annual Review interactive activity \n13:15   Lunch (1 hour) \n14:15   Spiral 4 Task Outline \n14:35   Working Groups – Spiral 4 SWOT \n16:05   WG Co-Chair SWOT back briefs \n16:20   Wrap-up \n16:30   Close \n  \nA MTC workshop tour will no longer be arranged on the day. Those who have signed up for this tour will be contacted by the MTC to arrange a visit at another time. Apologies for the inconvenience cause. \nThe event location is AMTC building. When approaching the roundabout in front of the main MTC building\, take the first exit and follow the road. The entrance to the AMTC building is the first turn on the right. \nLunch and some refreshments will be provided. \nDress code – business casual; no military uniform is required. \nPlease ensure you bring some form of photo ID with you on the day. \nParking is freely available at the event location. Access to the car park is controlled by a security barrier. On approach to the barrier\, you will need to press the buzzer to announce their arrival to security. When leaving the car park\, you will need to drive up to the barrier which will lift on approach. \nIf you have registered\, but are no longer able to attend\, please contact Demi Bowler demi.bowler@teamdefence.info. \nFollow the link below for the new ATI AM Strategy and Roadmap \nAdditive-Manufacturing-Strategy-Roadmap-Sept-2024-Final.pdf (ati.org.uk)
URL:https://www.teamdefence.info/event/adm-as-a-service-challenge-working-groups-event-4/
LOCATION:MTC Events\, Advanced Manufacturing Training Centre (AMTC)\, Ansty Business Park\, Coventry\, CV7 9JU\, United Kingdom
CATEGORIES:AdM WG,CDLS AdM as a Service WG,RTI,RTI-Public
END:VEVENT
BEGIN:VEVENT
DTSTART;TZID=UTC:20251023T150000
DTEND;TZID=UTC:20251023T160000
DTSTAMP:20260420T214158
CREATED:20251007T141809Z
LAST-MODIFIED:20251008T090445Z
UID:249210-1761231600-1761235200@www.teamdefence.info
SUMMARY:Critical Raw Materials for Defence: Online Snack Series - Session 4
DESCRIPTION:The recent Critical Raw Materials for Defence Report we published\, outlines a proposed framework for enhancing Critical Raw Materials resilience in the UK Defence sector through circular economy principles and recycling. Our aim was to contribute to the development of the UK’s industrial strategy and ensure Defence has a strong voice in this important area. As the financial settlement process moves forward\, we’re keen to keep the conversation active. \nJoin us for the Snack Series—a rapid-fire set of expert-led sessions that dive into the most urgent challenges and strategic opportunities across the UK’s critical materials ecosystem. \nFrom policy to platforms\, e-waste to innovation funding\, this series brings together voices across government\, industry\, and academia to shape a more circular\, resilient\, and sovereign defence future. \nWhy Attend?• Get insights into policy\, innovation\, and supply chain resilience• Hear from leaders shaping the future of defence and critical materials• Connect across disciplines—from recyclers and researchers to strategists and policymakers \nEach session features a 20-minute presentation from leading organisations\, followed by a 40-minute panel Q&A. Sessions will explore:• Global supply chain risks• UK capability and innovation• Priority Defence use cases \nContent will focus on real insights and lessons—not sales pitches—with case studies encouraged. No prior defence knowledge required; many challenges are cross-sector. \nWhy It MattersNew mining is costly\, slow\, and environmentally challenging. Reclaiming materials from end-of-life equipment could offer a faster\, cheaper\, and greener path. Let’s mine our waste—not the planet. \nGet Involved \nJoin the conversation. Shape the future. Spread the word. \nWant to stay informed or take part? Sign up now to receive invites and materials \nBy signing up you will receive diary invites to these sessions and will also receive invites to any subsequent workstreams/presentations. \nIf you would like further information please contact steve.green@teamdefence.info \n			\n			\n				\n				\n				\n				\n				\n				\n				\n				\n				\n				\n			\n				\n				\n				\n				\n				\nSubscribe here\n\n\n\n\n\n			\n				\n				\n				\n				\n				\nSustainable Circular Economics for Defence Concept Note\n\n\n\n\n\n			\n				\n				\n				\n				\n				\n2024 Criticality Assessment
URL:https://www.teamdefence.info/event/critical-raw-materials-for-defence-online-snack-series-session-4/
LOCATION:Virtual – MS Teams
CATEGORIES:Critical Raw material,RTI,RTI-Public,Sustainable Defence Support,Sustainable Defence Support -Public
END:VEVENT
END:VCALENDAR