BEGIN:VCALENDAR
VERSION:2.0
PRODID:-//Team Defence Information - ECPv6.15.16.1//NONSGML v1.0//EN
CALSCALE:GREGORIAN
METHOD:PUBLISH
X-WR-CALNAME:Team Defence Information
X-ORIGINAL-URL:https://www.teamdefence.info
X-WR-CALDESC:Events for Team Defence Information
REFRESH-INTERVAL;VALUE=DURATION:PT1H
X-Robots-Tag:noindex
X-PUBLISHED-TTL:PT1H
BEGIN:VTIMEZONE
TZID:UTC
BEGIN:STANDARD
TZOFFSETFROM:+0000
TZOFFSETTO:+0000
TZNAME:UTC
DTSTART:20240101T000000
END:STANDARD
END:VTIMEZONE
BEGIN:VEVENT
DTSTART;TZID=UTC:20250305T090000
DTEND;TZID=UTC:20250305T170000
DTSTAMP:20260422T175100
CREATED:20241023T090100Z
LAST-MODIFIED:20250228T102704Z
UID:247219-1741165200-1741194000@www.teamdefence.info
SUMMARY:AdM as a Service Challenge Working Groups March Event
DESCRIPTION:The first Additive Manufacturing as a Service Challenge (a.k.a Project TAMPA) Face-to-Face Working Group Event of the year will be held on Wednesday 5th March 2025 at the Digital Manufacturing Centre (DMC) in Silverstone NN12 8FU. \nPlease do not delay registering as the number of spaces is limited to 100 attendees and the spaces will be offered on a first come\, first served basis. The registration will close on 25 February 2024.  \nAim: Set the Working Group (WG) plans for 2025\, in line with the Executive Group (EG) Priorities to maximise success against the Key Performance Indicators (KPIs). \nPrimary Objectives: \n\nPresent the EG 2025 priorities\, setting the direction for the Additive Manufacturing as a Service Challenge.\nPresent the new Additive Manufacturing as a Service Challenge KPIs for the year ahead.\nThe WGs to set their own priorities for the next 9 months to maximise success against the KPIs.\n\nSecondary Objectives: \n\nTo develop the AM benefits case\, inform the WG community of the findings to date of the Hack 4 MOD task on the Whole Life Carbon Cost of AM.\nIntroduce the NATO representatives to the WG community to establish relationships.\n\nThe agenda\, which is subject to change\, is as follows: \n09:30   Arrival – Tea & Coffee \n10:00   Welcome & Housekeeping by Edit Barbantan and Kieron Salter \n10:10   Agenda and Objectives for the Day by Edit Barbantan \n10:15   Executive Group Welcome by Charlotte Robinson and Dr Ross Trepleton \n10:35   Introduction of NATO partners by Wg Cdr Jon McMahon \n10:45   AdM as a Service Challenge Updates\, by Wg Cdr Jon McMahon and Bernadette Saunders\, on: \n\nthe Advance Manufacturing Strategy;\nSpirals 1\, 2 and 3;\nHack for MOD (H4MOD) challenge\n\n11:15   H4MOD presentation by Imperial College London \n11:30   Coffee break (30 min) \n12:00   Team Defence Information Update by Stu Olden \n12:10   ASTM presentation by Dr Lauren Ednie \n12:25   DMC presentation by Kieron Salter \n12:40   Lunch + DMC tour (1 hour) \n13:40   Update from Working Groups (WG) \n14:05   Focus for Working Groups meeting by Edit Barbantan \n14:10   Working Groups Meeting \n15:10   WG Co-Chair back briefs \n16:10   Wrap-up by Charlotte Robinson and Dr Ross Trepleton \n16:30   Close \nLunch and some refreshments will be provided. Dress code – business casual; no military uniform is required. Please ensure you bring some form of photo ID with you on the day. Parking is freely available at the event location\, including at the unit across the road as it is currently vacant. \nFor any questions about the event or if you are no longer able to attend\, please contact Edit.Barbantan100@mod.gov.uk. \n			\n			\n				\n				\n				\n				\n				\n				\n				\n				\n				\n				\n			\n				\n				\n				\n				\n				\n			\n				\n				\n				\n				\n				\nRegister here
URL:https://www.teamdefence.info/event/adm-as-a-service-challenge-working-groups-event-2/
LOCATION:Digital Manufacturing Centre Ltd\, Silverstone Park\, Silverstone\, Towcester\, NN12 8FU\, United Kingdom
CATEGORIES:AdM WG,CDLS AdM as a Service WG,RTI,RTI-Public
END:VEVENT
BEGIN:VEVENT
DTSTART;TZID=UTC:20250311T100000
DTEND;TZID=UTC:20250311T120000
DTSTAMP:20260422T175100
CREATED:20250129T121648Z
LAST-MODIFIED:20250129T144617Z
UID:247699-1741687200-1741694400@www.teamdefence.info
SUMMARY:AdMaaS Digital Thread Working Group Meeting
DESCRIPTION:The AdMaaS Digital Thread Working Group Meeting is held on the 3rd Wednesday of every month virtually via MS Teams. \nIf you wish to attend please register your attendance using the register here button. You will receive the MS Teams link upon registration. To place this into your calendar please download the ics file on your confirmation email. \nIf you have any questions regarding these meetings please contact Edit.Barbantan100@mod.gov.uk \nIf you have any questions regarding registration please contact kelly.gough@teamdefence.info \n			\n			\n				\n				\n				\n				\n				\n				\n				\n				\n				\n				\n			\n				\n				\n				\n				\n				\nRegister here
URL:https://www.teamdefence.info/event/admaas-digital-thread-working-group-meeting-2/
LOCATION:Virtual – MS Teams
CATEGORIES:AdM WG,CDLS AdM as a Service WG,RTI,RTI-Public
END:VEVENT
BEGIN:VEVENT
DTSTART;TZID=UTC:20250328T090000
DTEND;TZID=UTC:20250328T170000
DTSTAMP:20260422T175100
CREATED:20250303T172615Z
LAST-MODIFIED:20250311T173013Z
UID:247873-1743152400-1743181200@www.teamdefence.info
SUMMARY:MOD DUxDA (Defence UxS ((Uncrewed ‘x’ systems)) Design Authority): Face-to Face Industry Early Engagement Event - Expression of Interest
DESCRIPTION:A new Team Defence-info supported MOD DUxDA face-to-face industry early engagement event has now been announced. \nPlease note: Expressions of interest must be submitted by close of play 11th March \nBackground – The UK Defence Drone Strategy 2024 \nhttps://www.gov.uk/government/publications/defence-drone-strategy-the-uks-approach-to-defence-uncrewed-systems set the vision for the UK to be world – leading in uncrewed Defence systems. The approach to achieving this is through unparalleled collaboration and bold innovation built around four key objectives: \n\nExpedite acquisition reform\nBuild a resilient industrial base\nDefine digital architectures for seamless integration\nFoster a new culture of innovation\n\nThis strategy identified the need for a Defence-level governance mechanism to support pan-domain delivery plans of the Royal Navy\, Army and Royal Airforce (incl Space). To support the strategy in the delivery of its vision the Defence UxS Design Authority (DUxDA) was established in Apr 24. \nWho are DUxDA and what do they do? – They sit within Strategic Command with pan-Defence responsibility\, core within these responsibilities is to… \n\nCohere\nCollaborate\nCo-ordination\n\nDUxDA provides improved co-ordination and coherence of MOD Uncrewed Systems activity to promote both value for money and improved Uncrewed capability across the entire Defence Enterprise (Air\, Ground\, On Water\, Under Water\, Space). \nAs a Design Authority it is a standalone\, integrated highly experienced team responsible for maintaining the integrity of programme objectives and alignment of solutions (designs) to programme level requirements through the effective implementation of collaborative assurance and guidance. The agile services structure can be adapted and tailored for any programme design and delivers the following within the Uncrewed area. \n\nStandalone Design Authority service or integrated within existing Teams\nFlexibility to advise at all levels architectural and design areas\nFull cross-function\, collaborative\, embedded transformation lifecycle design assurance\nOperates as a trusted advisor for and appropriate MOD programme\nHas ownership of Programme architecture (business\, processes\, applications\, technology\, data)\nTransformation and transition roadmap definition\, creation and delivery\nDeliver support across large-scale dynamic systems integration programmes\nDrive multiple improvement initiatives to de-risk the programme\nAbility to provide architecture and programme leadership and direction.\n\n The DUxDA industry engagement event activity asks?  – The DUxDA will present the progress made and outputs delivered since forming Apr 24 and detail the strategy and key delivery milestones for the Defence UxS portfolio for the next 12 months. Industry engagement\, feedback and support is critical to the successful delivery of the DUxDA strategy and key delivery milestones\, and this face-to-face event will be the first of a series of events being planned through FY25/26 ultimately aimed at creating a one team structure between Defence and Industry to deliver the future capability road maps across Defence. \nShould you get involved? – If your organisation is involved in the development and delivery of Uncrewed Systems to Defence you are encouraged to attend. \nWhy get involved? – Your contribution will enable you to understand the direction of travel from within Defence\, shape\, influence and assist MOD in its future direction for Uncrewed Systems. \nThere is also the opportunity to work as part of a team with equally capable and knowledgeable organisations within Defence and the wider Uncrewed Systems community. \nThis is an opening for wider industry experience and best practice to be showcased within the Defence environment. \nThis will enable: \n\nUnderstanding of how focus areas will interact to realise a future end state.\nArticulation of requirements for Uncrewed Systems capability across the enterprise.\nDevelopment of capability roadmaps\nAlignment\, pull through and learning from representative Uncrewed Systems capabilities.\nAssessment of potential system solutions and recommendations for future development.\n\nIf you would like to attend please complete the expression of interest form\, this will close on 11th March.
URL:https://www.teamdefence.info/event/mod-duxda-defence-uxs-uncrewed-x-systems-design-authority-face-to-face-industry-early-engagement-event-expression-of-interest/
LOCATION:MOD Abbey Wood\, Stoke Gifford\, Bristol\, BS34 8JH\, United Kingdom
CATEGORIES:Community of Practice,RTI,RTI-Public,Sustainable Defence Support,Sustainable Defence Support -Public
END:VEVENT
END:VCALENDAR