BEGIN:VCALENDAR
VERSION:2.0
PRODID:-//Team Defence Information - ECPv6.15.16.1//NONSGML v1.0//EN
CALSCALE:GREGORIAN
METHOD:PUBLISH
X-ORIGINAL-URL:https://www.teamdefence.info
X-WR-CALDESC:Events for Team Defence Information
REFRESH-INTERVAL;VALUE=DURATION:PT1H
X-Robots-Tag:noindex
X-PUBLISHED-TTL:PT1H
BEGIN:VTIMEZONE
TZID:UTC
BEGIN:STANDARD
TZOFFSETFROM:+0000
TZOFFSETTO:+0000
TZNAME:UTC
DTSTART:20240101T000000
END:STANDARD
END:VTIMEZONE
BEGIN:VEVENT
DTSTART;TZID=UTC:20250618T100000
DTEND;TZID=UTC:20250618T120000
DTSTAMP:20260421T024823
CREATED:20250129T122603Z
LAST-MODIFIED:20250129T144812Z
UID:247709-1750240800-1750248000@www.teamdefence.info
SUMMARY:AdMaaS Digital Thread Working Group Meeting
DESCRIPTION:The AdMaaS Digital Thread Working Group Meeting is held on the 3rd Wednesday of every month virtually via MS Teams. \nIf you wish to attend please register your attendance using the register here button. You will receive the MS Teams link upon registration. To place this into your calendar please download the ics file on your confirmation email. \nIf you have any questions regarding these meetings please contact Edit.Barbantan100@mod.gov.uk \nIf you have any questions regarding registration please contact kelly.gough@teamdefence.info \n			\n			\n				\n				\n				\n				\n				\n				\n				\n				\n				\n				\n			\n				\n				\n				\n				\n				\nRegister here
URL:https://www.teamdefence.info/event/admaas-digital-thread-working-group-meeting-5/
LOCATION:Virtual – MS Teams
CATEGORIES:AdM WG,CDLS AdM as a Service WG,RTI,RTI-Public
END:VEVENT
END:VCALENDAR