BEGIN:VCALENDAR
VERSION:2.0
PRODID:-//Team Defence Information - ECPv6.15.16.1//NONSGML v1.0//EN
CALSCALE:GREGORIAN
METHOD:PUBLISH
X-WR-CALNAME:Team Defence Information
X-ORIGINAL-URL:https://www.teamdefence.info
X-WR-CALDESC:Events for Team Defence Information
REFRESH-INTERVAL;VALUE=DURATION:PT1H
X-Robots-Tag:noindex
X-PUBLISHED-TTL:PT1H
BEGIN:VTIMEZONE
TZID:UTC
BEGIN:STANDARD
TZOFFSETFROM:+0000
TZOFFSETTO:+0000
TZNAME:UTC
DTSTART:20220101T000000
END:STANDARD
END:VTIMEZONE
BEGIN:VEVENT
DTSTART;TZID=UTC:20231130T100000
DTEND;TZID=UTC:20231130T123000
DTSTAMP:20260423T063930
CREATED:20231113T130604Z
LAST-MODIFIED:20231113T131012Z
UID:244916-1701338400-1701347400@www.teamdefence.info
SUMMARY:Integration Industry Working Group: Future Plans and Evolution
DESCRIPTION:MDI INDUSTRY WORKING GROUP – UPDATE AND EVENT REGISTRATION \nInvolvement Opportunity. \nThe planned event on 30 Nov 2023 has been awaiting an important update\, we thank you for your patience. \nFollowing a great deal of hard work going on behind the scenes\, UKStratCom is ready to launch the next evolution of their MOD-Industry relationship building on the good foundations by the TD-Info MDI WG team\, (acknowledged by MOD leaders recently at DSEI). \nThis evolution is centred on the new Integrated Design Authority (IDA) seeking a deeper collaboration with partners across industry\, solving problems together and seeking best in class Integration ideas. This includes highlighting and driving collaborative benefit across: culture change; wider Government & NATO awareness; capability\, including the importance of data\, digital skills and more. Seeking open feedback to drive towards the next stage in the evolution of this relationship. \nMaj Gen Rob Anderton-Brown (Capability Director UKStratCom) has asked that as many as possible join online on 30 Nov 2023 to contribute to Integrated Design Authority (IDA) brief and Q&A panel \nMaj Gen Rob Anderton-Brown will be joined by other MOD seniors. \nAsk: \n\nPlease support this virtual event by clicking on the registration link.\n\n          We help make the relationship happen and we all want clarity and then successful business from it. \n2. We all need to offer to MOD the collective ask from industry for MDI delivery\, please submit: \n\nHeadings (only) where industry require far more clarity from the MOD eg. Challenges (capability requirement)\, Teaming\, Responsibilities in MOD for delivery\, Timelines\, Spending Forecast\, etc.\nA paragraph on your views and needs.\n\nPlease email to Snippy  \nSnippy will collate all replies (all anonymous but state if you wish to be quoted) \n			\n			\n				\n				\n				\n				\n				\n				\n				\n				\n				\n				\n			\n				\n				\n				\n				\n				\nRegister here
URL:https://www.teamdefence.info/event/the-next-evolution-of-the-mod-industry-integrated-relationship/
LOCATION:Virtual – MS Teams
CATEGORIES:MDI WG-Public
END:VEVENT
END:VCALENDAR