BEGIN:VCALENDAR
VERSION:2.0
PRODID:-//Team Defence Information - ECPv6.15.16.1//NONSGML v1.0//EN
CALSCALE:GREGORIAN
METHOD:PUBLISH
X-WR-CALNAME:Team Defence Information
X-ORIGINAL-URL:https://www.teamdefence.info
X-WR-CALDESC:Events for Team Defence Information
REFRESH-INTERVAL;VALUE=DURATION:PT1H
X-Robots-Tag:noindex
X-PUBLISHED-TTL:PT1H
BEGIN:VTIMEZONE
TZID:UTC
BEGIN:STANDARD
TZOFFSETFROM:+0000
TZOFFSETTO:+0000
TZNAME:UTC
DTSTART:20250101T000000
END:STANDARD
END:VTIMEZONE
BEGIN:VEVENT
DTSTART;TZID=UTC:20260513T103000
DTEND;TZID=UTC:20260513T163000
DTSTAMP:20260419T193702
CREATED:20260409T104657Z
LAST-MODIFIED:20260409T104704Z
UID:250597-1778668200-1778689800@www.teamdefence.info
SUMMARY:The Integrated Force: Establishing Base Camp IWG Meeting
DESCRIPTION:The Integrated Force: Establishing Base Camp \nAn Industry/MOD Integration Working Group event to be held at the Defence Academy at Shrivenham: Wednesday 13th May 2026 1030-1630\, to hear from MOD on: \n  \n\nDefence Reform – new organisation in place on 1 April 2026\nThree Strategic Cycles: how MOD will draw industry into the Integrated Force concept\nIndustry views and priorities for 2026\n\n  \nDetails of speakers and timings to follow separately. Please register here: … \n(Lunch will be under own arrangements – restaurant available nearby.) \nAny questions to tony.butler@teamdefence.info. Thank you.  \n  \n  \n			\n			\n				\n				\n				\n				\n				\n				\n				\n				\n				\n				\n			\n				\n				\n				\n				\n				\nRegister here
URL:https://www.teamdefence.info/event/the-integrated-force-establishing-base-camp-iwg-meeting/
LOCATION:Defence Academy Shrivenham\, Faringdon Rd\, Shrivenham\, Swindon\, SN6 8LA
CATEGORIES:MDI WG-Public
END:VEVENT
BEGIN:VEVENT
DTSTART;TZID=UTC:20260521T130000
DTEND;TZID=UTC:20260521T140000
DTSTAMP:20260419T193702
CREATED:20260407T101744Z
LAST-MODIFIED:20260407T101750Z
UID:250591-1779368400-1779372000@www.teamdefence.info
SUMMARY:SME Showcase
DESCRIPTION:TD-Info are running a series of Showcasing Events on behalf of our members\, designed to help our SME (small to medium sized enterprise) community to demonstrate their organisations’ capabilities. This initiative also aligns to the MOD’s commitment to help and promote the SME community in the Defence sector. \nThe next event will be held on 21st May \, 1300 – 1400 \, online via Teams\, and will comprise of 3-4 SME’s presenting an overview of their company and capabilities\, to the TD-Info Membership base. Please register your interest in our next showcase at the link to the side of the page (event date and time subject to change.) \nIf you are an SME interested in getting involved with future showcases\, please contact julian.dayment@teamdefence.info and andy.whatman@teamdefence.info \n			\n			\n				\n				\n				\n				\n				\n				\n				\n				\n				\n				\n			\n				\n				\n				\n				\n				\nRegister here
URL:https://www.teamdefence.info/event/sme-showcase-7/
LOCATION:Virtual – MS Teams
CATEGORIES:Community of Practice,Governance,Private Working Groups,Public Working Groups,Showcase
END:VEVENT
END:VCALENDAR