BEGIN:VCALENDAR
VERSION:2.0
PRODID:-//Team Defence Information - ECPv6.15.16.1//NONSGML v1.0//EN
CALSCALE:GREGORIAN
METHOD:PUBLISH
X-ORIGINAL-URL:https://www.teamdefence.info
X-WR-CALDESC:Events for Team Defence Information
REFRESH-INTERVAL;VALUE=DURATION:PT1H
X-Robots-Tag:noindex
X-PUBLISHED-TTL:PT1H
BEGIN:VTIMEZONE
TZID:UTC
BEGIN:STANDARD
TZOFFSETFROM:+0000
TZOFFSETTO:+0000
TZNAME:UTC
DTSTART:20240101T000000
END:STANDARD
END:VTIMEZONE
BEGIN:VEVENT
DTSTART;TZID=UTC:20251023T100000
DTEND;TZID=UTC:20251023T120000
DTSTAMP:20260420T003435
CREATED:20250923T093109Z
LAST-MODIFIED:20250923T093333Z
UID:249078-1761213600-1761220800@www.teamdefence.info
SUMMARY:Integration Working Group Online Session
DESCRIPTION:This will be a online only session running on MS Teams for the IWG Group members 1000 – 1200 on Thursday 23rd October 2025. Please register using the registration button on this page.  \nA group of IWG members met at DSEI on Tuesday 10 Sep 2025. This illuminating session was attended by a large number of group members – and others – attending DSEI. Led by our co-chairs\, Air Cdre Rich Yates (MOD\, Dep Director Transformation\, Cyber & Specialist Operations Command (CSOC)) and Chris Parker (Industry\, Director Government\, Fortinet) and joined by Col Howard Tweedie from the Military Strategic Headquarters. \nIn his keynote\, Maj Gen Zac Stenning (Director Strategy CSOC) gave a thorough overview of the new strategy which led to a lively engagement with the audience through a candid Q&A. \nIWG deductions from the session: \n\nThere is a need for clear\, agreed digital taxonomy to help cohere change. (TDI IWG to lead this output).\nAwareness to be enhanced for all existing and imminent novel technology to enable rapid capability uplift. (TDI IWG started this in 2025 with the capability sets initiative and will help drive this forward).\nAccess improved – especially for Micro+SMEs. A new portal is to be announced soon to help this. (MOD very aware of this need from member feedback).\nAccountability needs to be clearer – shared responsibility for capability uplift/evolution and efficiency measures to build long term trust. (TDI IWG to support this work).\n\n  \nA survey of IWG members will follow soon to develop the actions needed to maintain pace and actively support the transformation underway in UK Defence. \n  \n			\n			\n				\n				\n				\n				\n				\n				\n				\n				\n				\n				\n			\n				\n				\n				\n				\n				\nRegister here
URL:https://www.teamdefence.info/event/integration-working-group-online-session/
LOCATION:Virtual – MS Teams
CATEGORIES:MDI WG-Public
END:VEVENT
END:VCALENDAR