BEGIN:VCALENDAR
VERSION:2.0
PRODID:-//Team Defence Information - ECPv6.15.16.1//NONSGML v1.0//EN
CALSCALE:GREGORIAN
METHOD:PUBLISH
X-ORIGINAL-URL:https://www.teamdefence.info
X-WR-CALDESC:Events for Team Defence Information
REFRESH-INTERVAL;VALUE=DURATION:PT1H
X-Robots-Tag:noindex
X-PUBLISHED-TTL:PT1H
BEGIN:VTIMEZONE
TZID:UTC
BEGIN:STANDARD
TZOFFSETFROM:+0000
TZOFFSETTO:+0000
TZNAME:UTC
DTSTART:20220101T000000
END:STANDARD
END:VTIMEZONE
BEGIN:VEVENT
DTSTART;TZID=UTC:20231019T100000
DTEND;TZID=UTC:20231019T123000
DTSTAMP:20260424T143830
CREATED:20230927T092847Z
LAST-MODIFIED:20230927T093305Z
UID:244408-1697709600-1697718600@www.teamdefence.info
SUMMARY:Multi Domain Integration - Developing Digital Talent
DESCRIPTION:A key element of Multi Domain Integration (MDI)\, Defence Digital\, Digital Deterrence\, Software Acquisition Improvements\, etc. is availability of digital talent plus a continued pipeline of capability. \nFollowing the launch by General Sir Jim Hockenhull – Commander Strategic Command of the Digital Bursary at DSEI\, we take an MDI WG opportunity to dig deeper to understand what it means for Defence including MDI and Industry. \nThe session\, hosted Defence Digital’s Paul Hancock\, will be informative and interactive. \nPlease register to explore and shape this important enabler to UK having essential and world leading digital talent. \n			\n			\n				\n				\n				\n				\n				\n				\n				\n				\n				\n				\n			\n				\n				\n				\n				\n				\nRegister here
URL:https://www.teamdefence.info/event/multi-domain-integration-developing-digital-talent/
CATEGORIES:MDI WG-Public
END:VEVENT
BEGIN:VEVENT
DTSTART;TZID=UTC:20231031T100000
DTEND;TZID=UTC:20231031T123000
DTSTAMP:20260424T143831
CREATED:20231005T082146Z
LAST-MODIFIED:20231120T124328Z
UID:244498-1698746400-1698755400@www.teamdefence.info
SUMMARY:Software Enabled Defence Working Group
DESCRIPTION:Following the successful two-day Software Acquisition Review March 2023 at QQ Malvern\, Steve Hyde MOD Software Lead formally launches this MOD – Industry co-creational and collaborative Software Enabled Defence Working Group in conjunction with Team Defence Information. \nThe Working Group is led by Steve Hyde (MOD) plus Kevin O’Reilly and Paul Hudson (Industry)\, facilitated by Shaun Hughes (TD-Info) \nThe session will confirm the findings of the Malvern Session and highlight the actions taken and proposed forward plan. \nThe Working Group targets another February / March 2024 two-day seminar to inform 2024/25 MOD – DE&S Plan \n			\n			\n				\n				\n				\n				\n				\n				\n				\n				\n				\n				\n			\n				\n				\n				\n				\n				\nRegister here
URL:https://www.teamdefence.info/event/software-enabled-defence-working-group/
LOCATION:virtual
CATEGORIES:MDI WG-Public,Software Enabled Defence WG-Public
END:VEVENT
END:VCALENDAR