BEGIN:VCALENDAR
VERSION:2.0
PRODID:-//Team Defence Information - ECPv6.15.16.1//NONSGML v1.0//EN
CALSCALE:GREGORIAN
METHOD:PUBLISH
X-ORIGINAL-URL:https://www.teamdefence.info
X-WR-CALDESC:Events for Team Defence Information
REFRESH-INTERVAL;VALUE=DURATION:PT1H
X-Robots-Tag:noindex
X-PUBLISHED-TTL:PT1H
BEGIN:VTIMEZONE
TZID:UTC
BEGIN:STANDARD
TZOFFSETFROM:+0000
TZOFFSETTO:+0000
TZNAME:UTC
DTSTART:20220101T000000
END:STANDARD
END:VTIMEZONE
BEGIN:VEVENT
DTSTART;TZID=UTC:20250617T100000
DTEND;TZID=UTC:20250617T150000
DTSTAMP:20260426T011249
CREATED:20250130T111224Z
LAST-MODIFIED:20250527T121508Z
UID:247741-1750154400-1750172400@www.teamdefence.info
SUMMARY:The Supportability Modelling and Analysis CoP
DESCRIPTION:Please log-in to view this content.
URL:https://www.teamdefence.info/event/the-supportability-modelling-and-analysis-cop-9/
LOCATION:TD-Info\, 6A Pinkers Court\, Briarlands Office Park\, Bristol\, BS35 3QH\, United Kingdom
CATEGORIES:Members Only,SMAWG
END:VEVENT
BEGIN:VEVENT
DTSTART;TZID=UTC:20250515T110000
DTEND;TZID=UTC:20250515T120000
DTSTAMP:20260426T011249
CREATED:20250228T121238Z
LAST-MODIFIED:20250922T090619Z
UID:247843-1747306800-1747310400@www.teamdefence.info
SUMMARY:SME Showcase
DESCRIPTION:Please log-in to view this content.
URL:https://www.teamdefence.info/event/sme-showcase-11/
CATEGORIES:Community of Practice,Governance,Private Working Groups,Public Working Groups
ORGANIZER;CN="Jack Thompson":MAILTO:jack.thompson@teamdefence.info
END:VEVENT
BEGIN:VEVENT
DTSTART;TZID=UTC:20250425T113000
DTEND;TZID=UTC:20250425T121500
DTSTAMP:20260426T011249
CREATED:20250410T160244Z
LAST-MODIFIED:20250410T162728Z
UID:248117-1745580600-1745583300@www.teamdefence.info
SUMMARY:Pandora Project Live Service for Defence\, International and Supply Chain Collaboration
DESCRIPTION:Please log-in to view this content.
URL:https://www.teamdefence.info/event/pandora-project-live-service-for-defence-international-and-supply-chain-collaboration/
CATEGORIES:ISF
END:VEVENT
BEGIN:VEVENT
DTSTART;TZID=UTC:20250325T100000
DTEND;TZID=UTC:20250325T150000
DTSTAMP:20260426T011249
CREATED:20250130T110324Z
LAST-MODIFIED:20250320T100248Z
UID:246067-1742896800-1742914800@www.teamdefence.info
SUMMARY:The Supportability Modelling and Analysis CoP
DESCRIPTION:Please log-in to view this content.
URL:https://www.teamdefence.info/event/the-supportability-modelling-and-analysis-cop-8/
LOCATION:TD-Info\, 6A Pinkers Court\, Briarlands Office Park\, Bristol\, BS35 3QH\, United Kingdom
CATEGORIES:Members Only,SMAWG
END:VEVENT
BEGIN:VEVENT
DTSTART;TZID=UTC:20250227T110000
DTEND;TZID=UTC:20250227T123000
DTSTAMP:20260426T011249
CREATED:20250117T123629Z
LAST-MODIFIED:20250922T090710Z
UID:247663-1740654000-1740659400@www.teamdefence.info
SUMMARY:SME Showcase
DESCRIPTION:Please log-in to view this content.
URL:https://www.teamdefence.info/event/sme-showcase-2/
CATEGORIES:Community of Practice,Governance,Private Working Groups,Public Working Groups,Showcase
ORGANIZER;CN="Jack Thompson":MAILTO:jack.thompson@teamdefence.info
END:VEVENT
BEGIN:VEVENT
DTSTART;TZID=UTC:20250207T100000
DTEND;TZID=UTC:20250207T120000
DTSTAMP:20260426T011249
CREATED:20250114T122747Z
LAST-MODIFIED:20250114T123240Z
UID:247646-1738922400-1738929600@www.teamdefence.info
SUMMARY:DE&S Support Authority Value Workstream
DESCRIPTION:Please log-in to view this content.
URL:https://www.teamdefence.info/event/des-support-authority-value-workstream/
LOCATION:TD-Info\, 6A Pinkers Court\, Briarlands Office Park\, Bristol\, BS35 3QH\, United Kingdom
CATEGORIES:Community of Practice,CoP,IPS CoP,SMAWG
END:VEVENT
BEGIN:VEVENT
DTSTART;TZID=UTC:20250130T100000
DTEND;TZID=UTC:20250130T110000
DTSTAMP:20260426T011249
CREATED:20250115T113557Z
LAST-MODIFIED:20250115T113600Z
UID:247658-1738231200-1738234800@www.teamdefence.info
SUMMARY:Trading Forum
DESCRIPTION:Please log-in to view this content.
URL:https://www.teamdefence.info/event/trading-forum-5/
CATEGORIES:Private Working Groups,Trading Forum
END:VEVENT
BEGIN:VEVENT
DTSTART;TZID=UTC:20250116T120000
DTEND;TZID=UTC:20250116T133000
DTSTAMP:20260426T011249
CREATED:20241108T131159Z
LAST-MODIFIED:20250922T090813Z
UID:247308-1737028800-1737034200@www.teamdefence.info
SUMMARY:SME Showcase
DESCRIPTION:Please log-in to view this content.
URL:https://www.teamdefence.info/event/sme-showcase-10/
CATEGORIES:Community of Practice,Governance,Private Working Groups,Public Working Groups,Showcase
ORGANIZER;CN="Jack Thompson":MAILTO:jack.thompson@teamdefence.info
END:VEVENT
BEGIN:VEVENT
DTSTART;TZID=UTC:20241210T100000
DTEND;TZID=UTC:20241210T150000
DTSTAMP:20260426T011250
CREATED:20240109T093013Z
LAST-MODIFIED:20241210T115520Z
UID:245434-1733824800-1733842800@www.teamdefence.info
SUMMARY:The Supportability Modelling and Analysis CoP
DESCRIPTION:Please log-in to view this content.
URL:https://www.teamdefence.info/event/the-supportability-modelling-and-analysis-cop-7/
LOCATION:TD-Info\, 6A Pinkers Court\, Briarlands Office Park\, Bristol\, BS35 3QH\, United Kingdom
CATEGORIES:Members Only,SMAWG
END:VEVENT
BEGIN:VEVENT
DTSTART;TZID=UTC:20241204T100000
DTEND;TZID=UTC:20241204T120000
DTSTAMP:20260426T011250
CREATED:20241113T100452Z
LAST-MODIFIED:20241113T102113Z
UID:247337-1733306400-1733313600@www.teamdefence.info
SUMMARY:SME Input into the Industrial Strategy
DESCRIPTION:Please log-in to view this content.
URL:https://www.teamdefence.info/event/sme-input-into-the-industrial-strategy/
CATEGORIES:Community of Practice,Governance,Private Working Groups,Public Working Groups
ORGANIZER;CN="Jack Thompson":MAILTO:jack.thompson@teamdefence.info
END:VEVENT
BEGIN:VEVENT
DTSTART;TZID=UTC:20241128T110000
DTEND;TZID=UTC:20241128T153000
DTSTAMP:20260426T011250
CREATED:20240910T104002Z
LAST-MODIFIED:20240910T104007Z
UID:246994-1732791600-1732807800@www.teamdefence.info
SUMMARY:Information Security Forum
DESCRIPTION:Please log-in to view this content.
URL:https://www.teamdefence.info/event/information-security-forum-9/
LOCATION:TD-Info\, 6A Pinkers Court\, Briarlands Office Park\, Bristol\, BS35 3QH\, United Kingdom
CATEGORIES:ISF,Members Only
END:VEVENT
BEGIN:VEVENT
DTSTART;TZID=UTC:20241107T120000
DTEND;TZID=UTC:20241107T133000
DTSTAMP:20260426T011250
CREATED:20240926T112656Z
LAST-MODIFIED:20250922T090829Z
UID:247069-1730980800-1730986200@www.teamdefence.info
SUMMARY:SME Showcase
DESCRIPTION:Please log-in to view this content.
URL:https://www.teamdefence.info/event/sme-showcase/
CATEGORIES:Community of Practice,Governance,Private Working Groups,Public Working Groups,Showcase
ORGANIZER;CN="Jack Thompson":MAILTO:jack.thompson@teamdefence.info
END:VEVENT
BEGIN:VEVENT
DTSTART;TZID=UTC:20241003T110000
DTEND;TZID=UTC:20241003T120000
DTSTAMP:20260426T011250
CREATED:20240708T152847Z
LAST-MODIFIED:20240712T101021Z
UID:246661-1727953200-1727956800@www.teamdefence.info
SUMMARY:Trading Forum
DESCRIPTION:Please log-in to view this content.
URL:https://www.teamdefence.info/event/trading-forum-3/
CATEGORIES:Private Working Groups,Trading Forum
END:VEVENT
BEGIN:VEVENT
DTSTART;TZID=UTC:20240926T120000
DTEND;TZID=UTC:20240926T133000
DTSTAMP:20260426T011250
CREATED:20240801T105703Z
LAST-MODIFIED:20250922T090907Z
UID:246793-1727352000-1727357400@www.teamdefence.info
SUMMARY:SME Showcase
DESCRIPTION:Please log-in to view this content.
URL:https://www.teamdefence.info/event/sme-showcase-event-4/
CATEGORIES:Community of Practice,Governance,Private Working Groups,Public Working Groups,Showcase
ORGANIZER;CN="Jack Thompson":MAILTO:jack.thompson@teamdefence.info
END:VEVENT
BEGIN:VEVENT
DTSTART;TZID=UTC:20240910T100000
DTEND;TZID=UTC:20240910T150000
DTSTAMP:20260426T011250
CREATED:20240109T092659Z
LAST-MODIFIED:20240903T104936Z
UID:245432-1725962400-1725980400@www.teamdefence.info
SUMMARY:The Supportability Modelling and Analysis CoP
DESCRIPTION:Please log-in to view this content.
URL:https://www.teamdefence.info/event/the-supportability-modelling-and-analysis-cop-6/
LOCATION:TD-Info\, 6A Pinkers Court\, Briarlands Office Park\, Bristol\, BS35 3QH\, United Kingdom
CATEGORIES:Members Only,SMAWG
END:VEVENT
BEGIN:VEVENT
DTSTART;TZID=UTC:20240725T110000
DTEND;TZID=UTC:20240725T153000
DTSTAMP:20260426T011250
CREATED:20240715T061301Z
LAST-MODIFIED:20240715T130455Z
UID:246703-1721905200-1721921400@www.teamdefence.info
SUMMARY:Information Security Forum
DESCRIPTION:Please log-in to view this content.
URL:https://www.teamdefence.info/event/information-security-forum-8/
LOCATION:TD-Info\, 6A Pinkers Court\, Briarlands Office Park\, Bristol\, BS35 3QH\, United Kingdom
CATEGORIES:ISF,Members Only
END:VEVENT
BEGIN:VEVENT
DTSTART;TZID=UTC:20240715T100000
DTEND;TZID=UTC:20240715T123000
DTSTAMP:20260426T011250
CREATED:20240517T102818Z
LAST-MODIFIED:20240614T044614Z
UID:246360-1721037600-1721046600@www.teamdefence.info
SUMMARY:Defence Reference Architecture Business Functional Model WG
DESCRIPTION:Please log-in to view this content.
URL:https://www.teamdefence.info/event/defence-reference-architecture-business-functional-model-wg-3/
LOCATION:Virtual – MS Teams
CATEGORIES:Members Only,Spt Bus Func Model
END:VEVENT
BEGIN:VEVENT
DTSTART;TZID=UTC:20240620T110000
DTEND;TZID=UTC:20240620T123000
DTSTAMP:20260426T011250
CREATED:20240516T123743Z
LAST-MODIFIED:20250922T090922Z
UID:246331-1718881200-1718886600@www.teamdefence.info
SUMMARY:SME Showcase Event
DESCRIPTION:Please log-in to view this content.
URL:https://www.teamdefence.info/event/sme-showcase-event-5/
CATEGORIES:Community of Practice,Governance,Private Working Groups,Public Working Groups,Showcase
ORGANIZER;CN="Jack Thompson":MAILTO:jack.thompson@teamdefence.info
END:VEVENT
BEGIN:VEVENT
DTSTART;TZID=UTC:20240521T100000
DTEND;TZID=UTC:20240521T150000
DTSTAMP:20260426T011250
CREATED:20240109T092318Z
LAST-MODIFIED:20240509T073133Z
UID:245430-1716285600-1716303600@www.teamdefence.info
SUMMARY:The Supportability Modelling and Analysis CoP
DESCRIPTION:Please log-in to view this content.
URL:https://www.teamdefence.info/event/the-supportability-modelling-and-analysis-cop-5/
LOCATION:TD-Info\, 6A Pinkers Court\, Briarlands Office Park\, Bristol\, BS35 3QH\, United Kingdom
CATEGORIES:Members Only,SMAWG
END:VEVENT
BEGIN:VEVENT
DTSTART;TZID=UTC:20240515T110000
DTEND;TZID=UTC:20240515T120000
DTSTAMP:20260426T011250
CREATED:20240306T095042Z
LAST-MODIFIED:20250922T090843Z
UID:245939-1715770800-1715774400@www.teamdefence.info
SUMMARY:SME Showcase Event
DESCRIPTION:Please log-in to view this content.
URL:https://www.teamdefence.info/event/sme-showcase-event-3/
CATEGORIES:Community of Practice,Governance,Private Working Groups,Public Working Groups,Showcase
ORGANIZER;CN="Jack Thompson":MAILTO:jack.thompson@teamdefence.info
END:VEVENT
BEGIN:VEVENT
DTSTART;TZID=UTC:20240417T110000
DTEND;TZID=UTC:20240417T153000
DTSTAMP:20260426T011250
CREATED:20240227T143258Z
LAST-MODIFIED:20240227T144143Z
UID:245858-1713351600-1713367800@www.teamdefence.info
SUMMARY:Information Security Forum
DESCRIPTION:Please log-in to view this content.
URL:https://www.teamdefence.info/event/information-security-forum-7/
LOCATION:TD-Info\, 6A Pinkers Court\, Briarlands Office Park\, Bristol\, BS35 3QH\, United Kingdom
CATEGORIES:ISF,Members Only
END:VEVENT
BEGIN:VEVENT
DTSTART;TZID=UTC:20240320T093000
DTEND;TZID=UTC:20240320T123000
DTSTAMP:20260426T011250
CREATED:20240214T110837Z
LAST-MODIFIED:20240222T114441Z
UID:245708-1710927000-1710937800@www.teamdefence.info
SUMMARY:DE&S SME Open Day - 20th March 2024 - Expression of Interest
DESCRIPTION:Please log-in to view this content.
URL:https://www.teamdefence.info/event/des-sme-open-day-20th-march-2024/
LOCATION:MOD Abbey Wood\, Stoke Gifford\, Bristol\, BS34 8JH\, United Kingdom
CATEGORIES:Community of Practice,Governance,Private Working Groups,Public Working Groups
END:VEVENT
BEGIN:VEVENT
DTSTART;TZID=UTC:20240319T110000
DTEND;TZID=UTC:20240319T120000
DTSTAMP:20260426T011250
CREATED:20240130T081427Z
LAST-MODIFIED:20240213T113709Z
UID:244638-1710846000-1710849600@www.teamdefence.info
SUMMARY:Trading Forum
DESCRIPTION:Please log-in to view this content.
URL:https://www.teamdefence.info/event/trading-forum-4/
CATEGORIES:Private Working Groups,Trading Forum
END:VEVENT
BEGIN:VEVENT
DTSTART;TZID=UTC:20240307T130000
DTEND;TZID=UTC:20240307T173000
DTSTAMP:20260426T011250
CREATED:20240214T091237Z
LAST-MODIFIED:20240521T083727Z
UID:245685-1709816400-1709832600@www.teamdefence.info
SUMMARY:CWE Workshop - 7th March 2024
DESCRIPTION:Please log-in to view this content.
URL:https://www.teamdefence.info/event/cwe-workshop-7th-march-2024/
LOCATION:Salesforce Tower\, 110 Bishopsgate\, London\, EC2N 4AY
CATEGORIES:CWE WG,Seminar-Public
END:VEVENT
BEGIN:VEVENT
DTSTART;TZID=UTC:20240228T120000
DTEND;TZID=UTC:20240228T131500
DTSTAMP:20260426T011250
CREATED:20240126T102539Z
LAST-MODIFIED:20250922T085604Z
UID:245556-1709121600-1709126100@www.teamdefence.info
SUMMARY:SME Showcase Event
DESCRIPTION:Please log-in to view this content.
URL:https://www.teamdefence.info/event/sme-showcase-event-2/
CATEGORIES:Community of Practice,Governance,Private Working Groups,Public Working Groups,Showcase
ORGANIZER;CN="Jack Thompson":MAILTO:jack.thompson@teamdefence.info
END:VEVENT
BEGIN:VEVENT
DTSTART;TZID=UTC:20240228T093000
DTEND;TZID=UTC:20240228T123000
DTSTAMP:20260426T011250
CREATED:20240207T160942Z
LAST-MODIFIED:20240213T152630Z
UID:245642-1709112600-1709123400@www.teamdefence.info
SUMMARY:Defence Reference Architecture Business Functional Model WG
DESCRIPTION:Please log-in to view this content.
URL:https://www.teamdefence.info/event/defence-reference-architecture-business-functional-model-wg/
LOCATION:TD-Info\, 6A Pinkers Court\, Briarlands Office Park\, Bristol\, BS35 3QH\, United Kingdom
CATEGORIES:Members Only,Spt Bus Func Model
END:VEVENT
BEGIN:VEVENT
DTSTART;TZID=UTC:20240220T100000
DTEND;TZID=UTC:20240220T150000
DTSTAMP:20260426T011250
CREATED:20240109T091910Z
LAST-MODIFIED:20240109T091913Z
UID:245427-1708423200-1708441200@www.teamdefence.info
SUMMARY:The Supportability Modelling and Analysis CoP
DESCRIPTION:Please log-in to view this content.
URL:https://www.teamdefence.info/event/the-supportability-modelling-and-analysis-cop-4/
LOCATION:TD-Info\, 6A Pinkers Court\, Briarlands Office Park\, Bristol\, BS35 3QH\, United Kingdom
CATEGORIES:Members Only,SMAWG
END:VEVENT
BEGIN:VEVENT
DTSTART;TZID=UTC:20240125T120000
DTEND;TZID=UTC:20240125T131500
DTSTAMP:20260426T011250
CREATED:20231003T112154Z
LAST-MODIFIED:20250922T085616Z
UID:244487-1706184000-1706188500@www.teamdefence.info
SUMMARY:SME Showcase Event
DESCRIPTION:Please log-in to view this content.
URL:https://www.teamdefence.info/event/sme-showcase-event/
CATEGORIES:Community of Practice,Governance,Private Working Groups,Public Working Groups,Showcase
ORGANIZER;CN="Jack Thompson":MAILTO:jack.thompson@teamdefence.info
END:VEVENT
BEGIN:VEVENT
DTSTART;TZID=UTC:20240125T110000
DTEND;TZID=UTC:20240125T153000
DTSTAMP:20260426T011250
CREATED:20231215T182749Z
LAST-MODIFIED:20231215T184109Z
UID:245355-1706180400-1706196600@www.teamdefence.info
SUMMARY:Information Security Forum
DESCRIPTION:Please log-in to view this content.
URL:https://www.teamdefence.info/event/information-security-forum-6/
LOCATION:TD-Info\, 6A Pinkers Court\, Briarlands Office Park\, Bristol\, BS35 3QH\, United Kingdom
CATEGORIES:ISF,Members Only
END:VEVENT
BEGIN:VEVENT
DTSTART;TZID=UTC:20231213T103000
DTEND;TZID=UTC:20231213T123000
DTSTAMP:20260426T011250
CREATED:20231107T101541Z
LAST-MODIFIED:20240213T152539Z
UID:244856-1702463400-1702470600@www.teamdefence.info
SUMMARY:Defence Support Business Functional Model WG
DESCRIPTION:Please log-in to view this content.
URL:https://www.teamdefence.info/event/defence-support-business-functional-model-wg/
LOCATION:TD-Info\, 6A Pinkers Court\, Briarlands Office Park\, Bristol\, BS35 3QH\, United Kingdom
CATEGORIES:Members Only,Spt Bus Func Model
END:VEVENT
END:VCALENDAR