BEGIN:VCALENDAR
VERSION:2.0
PRODID:-//Team Defence Information - ECPv6.15.16.1//NONSGML v1.0//EN
CALSCALE:GREGORIAN
METHOD:PUBLISH
X-WR-CALNAME:Team Defence Information
X-ORIGINAL-URL:https://www.teamdefence.info
X-WR-CALDESC:Events for Team Defence Information
REFRESH-INTERVAL;VALUE=DURATION:PT1H
X-Robots-Tag:noindex
X-PUBLISHED-TTL:PT1H
BEGIN:VTIMEZONE
TZID:UTC
BEGIN:STANDARD
TZOFFSETFROM:+0000
TZOFFSETTO:+0000
TZNAME:UTC
DTSTART:20210101T000000
END:STANDARD
END:VTIMEZONE
BEGIN:VEVENT
DTSTART;TZID=UTC:20220425T100000
DTEND;TZID=UTC:20220425T120000
DTSTAMP:20260425T033344
CREATED:20220330T131736Z
LAST-MODIFIED:20220330T132107Z
UID:239304-1650880800-1650888000@www.teamdefence.info
SUMMARY:DefStan 00-600 Working Gp
DESCRIPTION:Virtual Meeting to be held on Microsoft Teams \nJoin on your computer or mobile appClick here to join the meetingOr call in (audio only)+44 20 7660 8302\,\,455910638# United Kingdom\, LondonPhone Conference ID: 455 910 638# \n			\n			\n				\n				\n				\n				\n				\n				\n				\n				\n				\n				\n			\n				\n				\n				\n				\n				\nRegister
URL:https://www.teamdefence.info/event/defstan-00-600-working-gp/
CATEGORIES:Def Stan 00-600,Members Only
END:VEVENT
END:VCALENDAR