BEGIN:VCALENDAR
VERSION:2.0
PRODID:-//Team Defence Information - ECPv6.15.16.1//NONSGML v1.0//EN
CALSCALE:GREGORIAN
METHOD:PUBLISH
X-ORIGINAL-URL:https://www.teamdefence.info
X-WR-CALDESC:Events for Team Defence Information
REFRESH-INTERVAL;VALUE=DURATION:PT1H
X-Robots-Tag:noindex
X-PUBLISHED-TTL:PT1H
BEGIN:VTIMEZONE
TZID:UTC
BEGIN:STANDARD
TZOFFSETFROM:+0000
TZOFFSETTO:+0000
TZNAME:UTC
DTSTART:20210101T000000
END:STANDARD
END:VTIMEZONE
BEGIN:VEVENT
DTSTART;TZID=UTC:20220712T100000
DTEND;TZID=UTC:20220712T150000
DTSTAMP:20260424T200654
CREATED:20220615T153733Z
LAST-MODIFIED:20220712T095726Z
UID:240811-1657620000-1657638000@www.teamdefence.info
SUMMARY:The Supportability Modelling and Analysis CoP
DESCRIPTION:Team Defence Information Head Office; In person and Remote meeting using Microsoft Teams \n			\n			\n				\n				\n				\n				\n				\n				\n				\n				\n				\n				\n			\n				\n				\n				\n				\n				\nRegister\n\n\n\n			\n				\n				\n				\n				\n				\nReview Agenda\n\n\n\n			\n				\n				\n				\n				\n				\nAgenda
URL:https://www.teamdefence.info/event/the-supportability-modelling-and-analysis-working-group-2/
LOCATION:TD-Info\, 6A Pinkers Court\, Briarlands Office Park\, Bristol\, BS35 3QH\, United Kingdom
CATEGORIES:Members Only,SMAWG
END:VEVENT
BEGIN:VEVENT
DTSTART;TZID=UTC:20220714T100000
DTEND;TZID=UTC:20220714T130000
DTSTAMP:20260424T200654
CREATED:20220620T143928Z
LAST-MODIFIED:20220711T141036Z
UID:240836-1657792800-1657803600@www.teamdefence.info
SUMMARY:Information Security Forum
DESCRIPTION:The purpose of the Information Security Forum (ISF) is to provide better ways of working securely across Team Defence by identifying key issues and agreeing on common approaches to resolution by sharing good practice\, collaborating on accreditation standards\, providing a practical (and compliant) interpretation of Government policy\, and sharing event and near-miss data. The ISF collaboratively develops guidance\, influences policy and communicates key messages to members and\, where appropriate\, broader stakeholders on Information Security and Assurance matters.\n			\n			\n				\n				\n				\n				\n				\n				\n				\n				\n				\n				\n			\n				\n				\n				\n				\n				\nAgenda
URL:https://www.teamdefence.info/event/information-security-forum/
CATEGORIES:ISF,Members Only
END:VEVENT
END:VCALENDAR