BEGIN:VCALENDAR
VERSION:2.0
PRODID:-//Team Defence Information - ECPv6.15.16.1//NONSGML v1.0//EN
CALSCALE:GREGORIAN
METHOD:PUBLISH
X-ORIGINAL-URL:https://www.teamdefence.info
X-WR-CALDESC:Events for Team Defence Information
REFRESH-INTERVAL;VALUE=DURATION:PT1H
X-Robots-Tag:noindex
X-PUBLISHED-TTL:PT1H
BEGIN:VTIMEZONE
TZID:UTC
BEGIN:STANDARD
TZOFFSETFROM:+0000
TZOFFSETTO:+0000
TZNAME:UTC
DTSTART:20240101T000000
END:STANDARD
END:VTIMEZONE
BEGIN:VEVENT
DTSTART;TZID=UTC:20250624T100000
DTEND;TZID=UTC:20250624T130000
DTSTAMP:20260421T071101
CREATED:20250530T120645Z
LAST-MODIFIED:20250610T135513Z
UID:248295-1750759200-1750770000@www.teamdefence.info
SUMMARY:TD-Info Knowledge Management Community of Practice
DESCRIPTION:Please log-in to view this content.
URL:https://www.teamdefence.info/event/knowledge-management-community-of-practice/
LOCATION:TD-Info\, 6A Pinkers Court\, Briarlands Office Park\, Bristol\, BS35 3QH\, United Kingdom
CATEGORIES:Community of Practice,KM CoP,Members Only
END:VEVENT
END:VCALENDAR