BEGIN:VCALENDAR
VERSION:2.0
PRODID:-//Team Defence Information - ECPv6.15.16.1//NONSGML v1.0//EN
CALSCALE:GREGORIAN
METHOD:PUBLISH
X-ORIGINAL-URL:https://www.teamdefence.info
X-WR-CALDESC:Events for Team Defence Information
REFRESH-INTERVAL;VALUE=DURATION:PT1H
X-Robots-Tag:noindex
X-PUBLISHED-TTL:PT1H
BEGIN:VTIMEZONE
TZID:UTC
BEGIN:STANDARD
TZOFFSETFROM:+0000
TZOFFSETTO:+0000
TZNAME:UTC
DTSTART:20230101T000000
END:STANDARD
END:VTIMEZONE
BEGIN:VEVENT
DTSTART;TZID=UTC:20240319T103000
DTEND;TZID=UTC:20240319T123000
DTSTAMP:20260424T034754
CREATED:20240227T123652Z
LAST-MODIFIED:20240228T120312Z
UID:245836-1710844200-1710851400@www.teamdefence.info
SUMMARY:Chief of Defence Logistics Support invitation to assess Support Priorities and Key Risks
DESCRIPTION:Please log-in to view this content.
URL:https://www.teamdefence.info/event/sppg-workshop/
LOCATION:Dassault Systemes\, 12 Hammersmith Grove\, London\, W6 0NW\, United Kingdom
CATEGORIES:Members Only,TD-Info Council
END:VEVENT
BEGIN:VEVENT
DTSTART;TZID=UTC:20240319T130000
DTEND;TZID=UTC:20240319T150000
DTSTAMP:20260424T034754
CREATED:20230808T124850Z
LAST-MODIFIED:20231114T132424Z
UID:243979-1710853200-1710860400@www.teamdefence.info
SUMMARY:Lead Sponsors Forum
DESCRIPTION:Please log-in to view this content.
URL:https://www.teamdefence.info/event/td-info-council-meeting-7/
LOCATION:Dassault Systemes\, 12 Hammersmith Grove\, London\, W6 0NW\, United Kingdom
CATEGORIES:Members Only,TD-Info Council
END:VEVENT
END:VCALENDAR