BEGIN:VCALENDAR
VERSION:2.0
PRODID:-//Team Defence Information - ECPv6.15.16.1//NONSGML v1.0//EN
CALSCALE:GREGORIAN
METHOD:PUBLISH
X-ORIGINAL-URL:https://www.teamdefence.info
X-WR-CALDESC:Events for Team Defence Information
REFRESH-INTERVAL;VALUE=DURATION:PT1H
X-Robots-Tag:noindex
X-PUBLISHED-TTL:PT1H
BEGIN:VTIMEZONE
TZID:UTC
BEGIN:STANDARD
TZOFFSETFROM:+0000
TZOFFSETTO:+0000
TZNAME:UTC
DTSTART:20250101T000000
END:STANDARD
END:VTIMEZONE
BEGIN:VEVENT
DTSTART;TZID=UTC:20260305T140000
DTEND;TZID=UTC:20260305T160000
DTSTAMP:20260420T031441
CREATED:20251118T131730Z
LAST-MODIFIED:20260227T121303Z
UID:249600-1772719200-1772726400@www.teamdefence.info
SUMMARY:Integrated Product Support (IPS) CoP
DESCRIPTION:Please log-in to view this content.
URL:https://www.teamdefence.info/event/integrated-product-support-ips-cop-11/
LOCATION:Virtual – MS Teams
CATEGORIES:CLEP,Community of Practice,CoP,IPS CoP,Members Only
END:VEVENT
BEGIN:VEVENT
DTSTART;TZID=UTC:20260312T100000
DTEND;TZID=UTC:20260312T120000
DTSTAMP:20260420T031441
CREATED:20251121T095932Z
LAST-MODIFIED:20260306T113207Z
UID:249634-1773309600-1773316800@www.teamdefence.info
SUMMARY:Defence Asset Management CoP
DESCRIPTION:Please log-in to view this content.
URL:https://www.teamdefence.info/event/defence-asset-management-cop-10/
LOCATION:TD-Info\, 6A Pinkers Court\, Briarlands Office Park\, Bristol\, BS35 3QH\, United Kingdom
CATEGORIES:DAM_CoP,Members Only
END:VEVENT
BEGIN:VEVENT
DTSTART;TZID=UTC:20260313T120500
DTEND;TZID=UTC:20260313T125500
DTSTAMP:20260420T031441
CREATED:20250901T135648Z
LAST-MODIFIED:20250901T140334Z
UID:248881-1773403500-1773406500@www.teamdefence.info
SUMMARY:Knowledge Fridays Café
DESCRIPTION:Please log-in to view this content.
URL:https://www.teamdefence.info/event/knowledge-fridays-cafe-4/
LOCATION:Virtual – MS Teams
CATEGORIES:Community of Practice,KM CoP,Members Only
END:VEVENT
BEGIN:VEVENT
DTSTART;TZID=UTC:20260317T100000
DTEND;TZID=UTC:20260317T150000
DTSTAMP:20260420T031441
CREATED:20251104T155517Z
LAST-MODIFIED:20260210T120818Z
UID:249450-1773741600-1773759600@www.teamdefence.info
SUMMARY:The Supportability Modelling and Analysis CoP
DESCRIPTION:Please log-in to view this content.
URL:https://www.teamdefence.info/event/the-supportability-modelling-and-analysis-cop-12/
LOCATION:TD-Info\, 6A Pinkers Court\, Briarlands Office Park\, Bristol\, BS35 3QH\, United Kingdom
CATEGORIES:CLEP,Members Only,SMAWG
END:VEVENT
BEGIN:VEVENT
DTSTART;TZID=UTC:20260318T100000
DTEND;TZID=UTC:20260318T120000
DTSTAMP:20260420T031441
CREATED:20251208T095516Z
LAST-MODIFIED:20260126T122744Z
UID:248758-1773828000-1773835200@www.teamdefence.info
SUMMARY:Team Defence Strategy Group
DESCRIPTION:Please log-in to view this content.
URL:https://www.teamdefence.info/event/team-defence-strategy-group-11/
LOCATION:fujitsu\, 7th Floor\, The Lantern\, 75 Hampstead Rd\, London\, NW1 2PL\, United Kingdom
CATEGORIES:Members Only,Strategy Group
END:VEVENT
BEGIN:VEVENT
DTSTART;TZID=UTC:20260319T100000
DTEND;TZID=UTC:20260319T150000
DTSTAMP:20260420T031441
CREATED:20251212T120858Z
LAST-MODIFIED:20260317T112720Z
UID:248750-1773914400-1773932400@www.teamdefence.info
SUMMARY:TD-Info Town Hall Meeting
DESCRIPTION:Please log-in to view this content.
URL:https://www.teamdefence.info/event/td-info-town-hall-meeting-8/
LOCATION:Thornbury Active Leisure Centre\, Alveston Hill\, Thornbury\, BS35 3JB
CATEGORIES:Exec Team,Members Only
END:VEVENT
END:VCALENDAR