BEGIN:VCALENDAR
VERSION:2.0
PRODID:-//Team Defence Information - ECPv6.15.16.1//NONSGML v1.0//EN
CALSCALE:GREGORIAN
METHOD:PUBLISH
X-ORIGINAL-URL:https://www.teamdefence.info
X-WR-CALDESC:Events for Team Defence Information
REFRESH-INTERVAL;VALUE=DURATION:PT1H
X-Robots-Tag:noindex
X-PUBLISHED-TTL:PT1H
BEGIN:VTIMEZONE
TZID:UTC
BEGIN:STANDARD
TZOFFSETFROM:+0000
TZOFFSETTO:+0000
TZNAME:UTC
DTSTART:20250101T000000
END:STANDARD
END:VTIMEZONE
BEGIN:VEVENT
DTSTART;TZID=UTC:20260113T110000
DTEND;TZID=UTC:20260113T150000
DTSTAMP:20260421T004501
CREATED:20250819T135257Z
LAST-MODIFIED:20251212T124556Z
UID:248704-1768302000-1768316400@www.teamdefence.info
SUMMARY:TD-Info Knowledge Management Community of Practice
DESCRIPTION:Please log-in to view this content.
URL:https://www.teamdefence.info/event/td-info-knowledge-management-community-of-practice-2/
LOCATION:TD-Info\, 6A Pinkers Court\, Briarlands Office Park\, Bristol\, BS35 3QH\, United Kingdom
CATEGORIES:Community of Practice,KM CoP,Members Only
END:VEVENT
BEGIN:VEVENT
DTSTART;TZID=UTC:20260122T110000
DTEND;TZID=UTC:20260122T153000
DTSTAMP:20260421T004501
CREATED:20251112T100546Z
LAST-MODIFIED:20251117T104751Z
UID:249528-1769079600-1769095800@www.teamdefence.info
SUMMARY:ICEF/Information Security Forum
DESCRIPTION:Please log-in to view this content.
URL:https://www.teamdefence.info/event/icef-information-security-forum/
LOCATION:TD-Info\, 6A Pinkers Court\, Briarlands Office Park\, Bristol\, BS35 3QH\, United Kingdom
CATEGORIES:CoP,ICEF,ISF,Members Only,Public Working Groups
END:VEVENT
BEGIN:VEVENT
DTSTART;TZID=UTC:20260129T100000
DTEND;TZID=UTC:20260129T120000
DTSTAMP:20260421T004501
CREATED:20250514T121400Z
LAST-MODIFIED:20260115T151332Z
UID:248204-1769680800-1769688000@www.teamdefence.info
SUMMARY:Executive Group Team Meeting
DESCRIPTION:Please log-in to view this content.
URL:https://www.teamdefence.info/event/executive-group-team-meeting-6/
LOCATION:TD-Info\, 6A Pinkers Court\, Briarlands Office Park\, Bristol\, BS35 3QH\, United Kingdom
CATEGORIES:Exec Team,Members Only
END:VEVENT
END:VCALENDAR