BEGIN:VCALENDAR
VERSION:2.0
PRODID:-//Team Defence Information - ECPv6.15.16.1//NONSGML v1.0//EN
CALSCALE:GREGORIAN
METHOD:PUBLISH
X-WR-CALNAME:Team Defence Information
X-ORIGINAL-URL:https://www.teamdefence.info
X-WR-CALDESC:Events for Team Defence Information
REFRESH-INTERVAL;VALUE=DURATION:PT1H
X-Robots-Tag:noindex
X-PUBLISHED-TTL:PT1H
BEGIN:VTIMEZONE
TZID:UTC
BEGIN:STANDARD
TZOFFSETFROM:+0000
TZOFFSETTO:+0000
TZNAME:UTC
DTSTART:20230101T000000
END:STANDARD
END:VTIMEZONE
BEGIN:VEVENT
DTSTART;TZID=UTC:20241202T130000
DTEND;TZID=UTC:20241202T150000
DTSTAMP:20260422T114420
CREATED:20240304T154107Z
LAST-MODIFIED:20240304T154111Z
UID:245934-1733144400-1733151600@www.teamdefence.info
SUMMARY:Industry Customers Engagement Forum (ICEF)
DESCRIPTION:Please log-in to view this content.
URL:https://www.teamdefence.info/event/industry-customers-engagement-forum-icef-21/
LOCATION:Virtual – MS Teams
CATEGORIES:ICEF,Members Only
END:VEVENT
BEGIN:VEVENT
DTSTART;TZID=UTC:20241210T100000
DTEND;TZID=UTC:20241210T150000
DTSTAMP:20260422T114420
CREATED:20240109T093013Z
LAST-MODIFIED:20241210T115520Z
UID:245434-1733824800-1733842800@www.teamdefence.info
SUMMARY:The Supportability Modelling and Analysis CoP
DESCRIPTION:Please log-in to view this content.
URL:https://www.teamdefence.info/event/the-supportability-modelling-and-analysis-cop-7/
LOCATION:TD-Info\, 6A Pinkers Court\, Briarlands Office Park\, Bristol\, BS35 3QH\, United Kingdom
CATEGORIES:Members Only,SMAWG
END:VEVENT
BEGIN:VEVENT
DTSTART;TZID=UTC:20241210T130000
DTEND;TZID=UTC:20241210T150000
DTSTAMP:20260422T114420
CREATED:20230918T173001Z
LAST-MODIFIED:20231114T132132Z
UID:244314-1733835600-1733842800@www.teamdefence.info
SUMMARY:Lead Sponsors Forum
DESCRIPTION:Please log-in to view this content.
URL:https://www.teamdefence.info/event/lead-sponsors-forum-3/
LOCATION:Appian\, 20 Fenchurch Street\, London\, EC3M 3BY
CATEGORIES:Members Only,TD-Info Council
END:VEVENT
BEGIN:VEVENT
DTSTART;TZID=UTC:20241218T110000
DTEND;TZID=UTC:20241218T140000
DTSTAMP:20260422T114420
CREATED:20241129T131949Z
LAST-MODIFIED:20241212T100459Z
UID:247453-1734519600-1734530400@www.teamdefence.info
SUMMARY:AI in Action: Transforming Defence Collaboration Platforms
DESCRIPTION:Please log-in to view this content.
URL:https://www.teamdefence.info/event/ai-in-action-transforming-defence-collaboration-platforms/
LOCATION:TD-Info\, 6A Pinkers Court\, Briarlands Office Park\, Bristol\, BS35 3QH\, United Kingdom
CATEGORIES:Members Only
END:VEVENT
END:VCALENDAR