BEGIN:VCALENDAR
VERSION:2.0
PRODID:-//Team Defence Information - ECPv6.15.16.1//NONSGML v1.0//EN
CALSCALE:GREGORIAN
METHOD:PUBLISH
X-ORIGINAL-URL:https://www.teamdefence.info
X-WR-CALDESC:Events for Team Defence Information
REFRESH-INTERVAL;VALUE=DURATION:PT1H
X-Robots-Tag:noindex
X-PUBLISHED-TTL:PT1H
BEGIN:VTIMEZONE
TZID:UTC
BEGIN:STANDARD
TZOFFSETFROM:+0000
TZOFFSETTO:+0000
TZNAME:UTC
DTSTART:20230101T000000
END:STANDARD
END:VTIMEZONE
BEGIN:VEVENT
DTSTART;TZID=UTC:20240416T130000
DTEND;TZID=UTC:20240416T150000
DTSTAMP:20260423T212457
CREATED:20240304T154220Z
LAST-MODIFIED:20240326T104253Z
UID:245936-1713272400-1713279600@www.teamdefence.info
SUMMARY:TD-Info/MOD/Thales Data Sharing WG
DESCRIPTION:Please log-in to view this content.
URL:https://www.teamdefence.info/event/industry-customers-engagement-forum-icef-22/
LOCATION:Virtual – MS Teams
CATEGORIES:Members Only
END:VEVENT
BEGIN:VEVENT
DTSTART;TZID=UTC:20240417T110000
DTEND;TZID=UTC:20240417T153000
DTSTAMP:20260423T212457
CREATED:20240227T143258Z
LAST-MODIFIED:20240227T144143Z
UID:245858-1713351600-1713367800@www.teamdefence.info
SUMMARY:Information Security Forum
DESCRIPTION:Please log-in to view this content.
URL:https://www.teamdefence.info/event/information-security-forum-7/
LOCATION:TD-Info\, 6A Pinkers Court\, Briarlands Office Park\, Bristol\, BS35 3QH\, United Kingdom
CATEGORIES:ISF,Members Only
END:VEVENT
BEGIN:VEVENT
DTSTART;TZID=UTC:20240423T140000
DTEND;TZID=UTC:20240423T160000
DTSTAMP:20260423T212457
CREATED:20240320T152043Z
LAST-MODIFIED:20240422T144027Z
UID:246030-1713880800-1713888000@www.teamdefence.info
SUMMARY:Integrated Product Support (IPS) CoP
DESCRIPTION:Please log-in to view this content.
URL:https://www.teamdefence.info/event/integrated-product-support-ips-cop-4/
LOCATION:Virtual – MS Teams
CATEGORIES:Community of Practice,CoP,IPS CoP,Members Only
END:VEVENT
BEGIN:VEVENT
DTSTART;TZID=UTC:20240424T104500
DTEND;TZID=UTC:20240424T124500
DTSTAMP:20260423T212457
CREATED:20231215T164818Z
LAST-MODIFIED:20231215T164901Z
UID:245338-1713955500-1713962700@www.teamdefence.info
SUMMARY:Executive Group Team Meeting
DESCRIPTION:Please log-in to view this content.
URL:https://www.teamdefence.info/event/executive-group-team-meeting-3/
LOCATION:TD-Info\, 6A Pinkers Court\, Briarlands Office Park\, Bristol\, BS35 3QH\, United Kingdom
CATEGORIES:Exec Team,Members Only
END:VEVENT
BEGIN:VEVENT
DTSTART;TZID=UTC:20240429T130000
DTEND;TZID=UTC:20240429T150000
DTSTAMP:20260423T212457
CREATED:20240304T153425Z
LAST-MODIFIED:20240304T153508Z
UID:245922-1714395600-1714402800@www.teamdefence.info
SUMMARY:Industry Customers Engagement Forum (ICEF)
DESCRIPTION:Please log-in to view this content.
URL:https://www.teamdefence.info/event/industry-customers-engagement-forum-icef-16/
LOCATION:Hybrid
CATEGORIES:ICEF,Members Only
END:VEVENT
END:VCALENDAR