BEGIN:VCALENDAR
VERSION:2.0
PRODID:-//Team Defence Information - ECPv6.15.16.1//NONSGML v1.0//EN
CALSCALE:GREGORIAN
METHOD:PUBLISH
X-WR-CALNAME:Team Defence Information
X-ORIGINAL-URL:https://www.teamdefence.info
X-WR-CALDESC:Events for Team Defence Information
REFRESH-INTERVAL;VALUE=DURATION:PT1H
X-Robots-Tag:noindex
X-PUBLISHED-TTL:PT1H
BEGIN:VTIMEZONE
TZID:UTC
BEGIN:STANDARD
TZOFFSETFROM:+0000
TZOFFSETTO:+0000
TZNAME:UTC
DTSTART:20230101T000000
END:STANDARD
END:VTIMEZONE
BEGIN:VEVENT
DTSTART;TZID=UTC:20240221T130000
DTEND;TZID=UTC:20240221T150000
DTSTAMP:20260419T120832
CREATED:20240130T113611Z
LAST-MODIFIED:20240130T113614Z
UID:245585-1708520400-1708527600@www.teamdefence.info
SUMMARY:JPDWG - TLS/IPS/ILS Sub Working Group
DESCRIPTION:This is the second meeting of the TLS/IPS/ILS sub working group. \nThe focus of this session will be for attendees across MoD and Industry to feedback on the roles\, skills and potential skills for the TLS/IPS/ILS skills area. Once inputs are received per actions from WG001\, the forum will look to agree fundamental principles for the skills area and progress agreement of specific roles and skills to align with the Pan Defence Skills Framework. \n			\n			\n				\n				\n				\n				\n				\n				\n				\n				\n				\n				\n			\n				\n				\n				\n				\n				\nRegister here\n\n\n\n\n\n			\n				\n				\n				\n				\n				\nTerms of reference
URL:https://www.teamdefence.info/event/jpdwg-tls-ips-ils-sub-working-group/
LOCATION:Virtual – MS Teams
CATEGORIES:JPD WG
END:VEVENT
END:VCALENDAR