BEGIN:VCALENDAR
VERSION:2.0
PRODID:-//Team Defence Information - ECPv6.15.16.1//NONSGML v1.0//EN
CALSCALE:GREGORIAN
METHOD:PUBLISH
X-WR-CALNAME:Team Defence Information
X-ORIGINAL-URL:https://www.teamdefence.info
X-WR-CALDESC:Events for Team Defence Information
REFRESH-INTERVAL;VALUE=DURATION:PT1H
X-Robots-Tag:noindex
X-PUBLISHED-TTL:PT1H
BEGIN:VTIMEZONE
TZID:UTC
BEGIN:STANDARD
TZOFFSETFROM:+0000
TZOFFSETTO:+0000
TZNAME:UTC
DTSTART:20210101T000000
END:STANDARD
END:VTIMEZONE
BEGIN:VEVENT
DTSTART;TZID=UTC:20221207T094500
DTEND;TZID=UTC:20221207T123000
DTSTAMP:20260425T171532
CREATED:20220427T202926Z
LAST-MODIFIED:20221114T121911Z
UID:240281-1670406300-1670416200@www.teamdefence.info
SUMMARY:Team Defence Strategy Group
DESCRIPTION:Please log-in to view this content.
URL:https://www.teamdefence.info/event/td-info-strategy-group-3/
CATEGORIES:Members Only,Strategy Group
END:VEVENT
BEGIN:VEVENT
DTSTART;TZID=UTC:20221130T104500
DTEND;TZID=UTC:20221130T130000
DTSTAMP:20260425T171533
CREATED:20220427T153108Z
LAST-MODIFIED:20221122T101053Z
UID:240268-1669805100-1669813200@www.teamdefence.info
SUMMARY:TD-Info Executive Team
DESCRIPTION:Please log-in to view this content.
URL:https://www.teamdefence.info/event/td-info-executive-team-7/
CATEGORIES:Exec Team,Members Only
END:VEVENT
BEGIN:VEVENT
DTSTART;TZID=UTC:20221019T104500
DTEND;TZID=UTC:20221019T130000
DTSTAMP:20260425T171533
CREATED:20220427T152819Z
LAST-MODIFIED:20221005T140835Z
UID:240264-1666176300-1666184400@www.teamdefence.info
SUMMARY:TD-Info Executive Team
DESCRIPTION:Please log-in to view this content.
URL:https://www.teamdefence.info/event/td-info-executive-team-6/
CATEGORIES:Exec Team,Members Only
END:VEVENT
BEGIN:VEVENT
DTSTART;TZID=UTC:20221006T100000
DTEND;TZID=UTC:20221006T150000
DTSTAMP:20260425T171533
CREATED:20220920T120623Z
LAST-MODIFIED:20221005T140329Z
UID:241612-1665050400-1665068400@www.teamdefence.info
SUMMARY:Health Check of Defence Industrial Base - Follow Up
DESCRIPTION:Please log-in to view this content.
URL:https://www.teamdefence.info/event/health-check-of-defence-industrial-base-follow-up/
LOCATION:TD-Info\, 6A Pinkers Court\, Briarlands Office Park\, Bristol\, BS35 3QH\, United Kingdom
CATEGORIES:Exec Team,Members Only,Strategy Group
ORGANIZER;CN="Jack Thompson":MAILTO:jack.thompson@teamdefence.info
END:VEVENT
BEGIN:VEVENT
DTSTART;TZID=UTC:20220928T104500
DTEND;TZID=UTC:20220928T150000
DTSTAMP:20260425T171533
CREATED:20220427T152108Z
LAST-MODIFIED:20220926T130823Z
UID:240258-1664361900-1664377200@www.teamdefence.info
SUMMARY:TD-Info Executive Team Town Hall Meeting
DESCRIPTION:Please log-in to view this content.
URL:https://www.teamdefence.info/event/td-info-executive-team-5/
LOCATION:Active Conference Centre\, Thornbury Active Lifestyle Centre\,Alveston Hill\, Thornbury\, South Gloucestershire\, BS35 3JB\, United Kingdom
CATEGORIES:Exec Team,Members Only
END:VEVENT
BEGIN:VEVENT
DTSTART;TZID=UTC:20220914T130000
DTEND;TZID=UTC:20220914T150000
DTSTAMP:20260425T171533
CREATED:20220427T150905Z
LAST-MODIFIED:20220427T150908Z
UID:240248-1663160400-1663167600@www.teamdefence.info
SUMMARY:TD-Info Council Meeting
DESCRIPTION:Please log-in to view this content.
URL:https://www.teamdefence.info/event/td-info-council-meeting/
LOCATION:Dassault Systemes\, 12 Hammersmith Grove\, London\, W6 0NW\, United Kingdom
CATEGORIES:Members Only,TD-Info Council
END:VEVENT
BEGIN:VEVENT
DTSTART;TZID=UTC:20220907T100000
DTEND;TZID=UTC:20220907T123000
DTSTAMP:20260425T171533
CREATED:20220427T150201Z
LAST-MODIFIED:20220906T125108Z
UID:240241-1662544800-1662553800@www.teamdefence.info
SUMMARY:Team Defence Strategy Group
DESCRIPTION:Please log-in to view this content.
URL:https://www.teamdefence.info/event/td-info-strategy-group-2/
LOCATION:Palantir\, 20 Soho Square\, London\, London\, W1D 3QW\, United Kingdom
CATEGORIES:Members Only,Strategy Group
END:VEVENT
BEGIN:VEVENT
DTSTART;TZID=UTC:20220824T104500
DTEND;TZID=UTC:20220824T130000
DTSTAMP:20260425T171533
CREATED:20220427T145605Z
LAST-MODIFIED:20220427T145608Z
UID:240235-1661337900-1661346000@www.teamdefence.info
SUMMARY:TD-Info Executive Team
DESCRIPTION:Please log-in to view this content.
URL:https://www.teamdefence.info/event/td-info-executive-team-4/
CATEGORIES:Exec Team,Members Only
END:VEVENT
BEGIN:VEVENT
DTSTART;TZID=UTC:20220727T104500
DTEND;TZID=UTC:20220727T130000
DTSTAMP:20260425T171533
CREATED:20220427T145503Z
LAST-MODIFIED:20220427T145506Z
UID:240233-1658918700-1658926800@www.teamdefence.info
SUMMARY:TD-Info Executive Team
DESCRIPTION:Please log-in to view this content.
URL:https://www.teamdefence.info/event/td-info-executive-team-3/
CATEGORIES:Exec Team,Members Only
END:VEVENT
BEGIN:VEVENT
DTSTART;TZID=UTC:20220630T130000
DTEND;TZID=UTC:20220630T150000
DTSTAMP:20260425T171533
CREATED:20220427T114209Z
LAST-MODIFIED:20240619T165838Z
UID:240182-1656594000-1656601200@www.teamdefence.info
SUMMARY:TD-Info Council And AGM Meeting
DESCRIPTION:Please log-in to view this content.
URL:https://www.teamdefence.info/event/https-admin-teamdefence-info-public-delegate-registration-page-1-phpid77/
LOCATION:TD-Info\, 6A Pinkers Court\, Briarlands Office Park\, Bristol\, BS35 3QH\, United Kingdom
CATEGORIES:AGM,Members Only,TD-Info Council
END:VEVENT
BEGIN:VEVENT
DTSTART;TZID=UTC:20220629T104500
DTEND;TZID=UTC:20220629T130000
DTSTAMP:20260425T171533
CREATED:20220427T115820Z
LAST-MODIFIED:20220427T144928Z
UID:240189-1656499500-1656507600@www.teamdefence.info
SUMMARY:TD-Info Executive Team
DESCRIPTION:Please log-in to view this content.
URL:https://www.teamdefence.info/event/td-info-executive-team-2/
CATEGORIES:Exec Team,Members Only
END:VEVENT
BEGIN:VEVENT
DTSTART;TZID=UTC:20220615T094500
DTEND;TZID=UTC:20220615T123000
DTSTAMP:20260425T171533
CREATED:20220427T105201Z
LAST-MODIFIED:20220427T150039Z
UID:240164-1655286300-1655296200@www.teamdefence.info
SUMMARY:TD-Info Strategy Group
DESCRIPTION:Please log-in to view this content.
URL:https://www.teamdefence.info/event/td-info-strategy-group/
CATEGORIES:Exec Team,Members Only
END:VEVENT
BEGIN:VEVENT
DTSTART;TZID=UTC:20220613T100000
DTEND;TZID=UTC:20220613T150000
DTSTAMP:20260425T171533
CREATED:20220517T115514Z
LAST-MODIFIED:20220517T120025Z
UID:240555-1655114400-1655132400@www.teamdefence.info
SUMMARY:Health Check of Defence Industrial Base
DESCRIPTION:Please log-in to view this content.
URL:https://www.teamdefence.info/event/health-check-of-defence-industrial-base/
LOCATION:TD-Info\, 6A Pinkers Court\, Briarlands Office Park\, Bristol\, BS35 3QH\, United Kingdom
CATEGORIES:Exec Team,Members Only,Strategy Group
END:VEVENT
BEGIN:VEVENT
DTSTART;TZID=UTC:20220525T104500
DTEND;TZID=UTC:20220525T130000
DTSTAMP:20260425T171533
CREATED:20220329T083253Z
LAST-MODIFIED:20220523T133109Z
UID:239003-1653475500-1653483600@www.teamdefence.info
SUMMARY:TD-Info Executive Team
DESCRIPTION:Please log-in to view this content.
URL:https://www.teamdefence.info/event/td-info-executive-team/
CATEGORIES:Exec Team,Members Only
END:VEVENT
BEGIN:VEVENT
DTSTART;TZID=UTC:20220427T104500
DTEND;TZID=UTC:20220427T130000
DTSTAMP:20260425T171533
CREATED:20220329T075915Z
LAST-MODIFIED:20220427T115649Z
UID:238977-1651056300-1651064400@www.teamdefence.info
SUMMARY:TD-Info Executive Team
DESCRIPTION:Please log-in to view this content.
URL:https://www.teamdefence.info/event/team-defence-executive-team/
CATEGORIES:Exec Team,Governance,Members Only
ORGANIZER;CN="Sue Russell":MAILTO:sue.russell@teamdefence.info
END:VEVENT
END:VCALENDAR