BEGIN:VCALENDAR
VERSION:2.0
PRODID:-//Team Defence Information - ECPv6.15.16.1//NONSGML v1.0//EN
CALSCALE:GREGORIAN
METHOD:PUBLISH
X-WR-CALNAME:Team Defence Information
X-ORIGINAL-URL:https://www.teamdefence.info
X-WR-CALDESC:Events for Team Defence Information
REFRESH-INTERVAL;VALUE=DURATION:PT1H
X-Robots-Tag:noindex
X-PUBLISHED-TTL:PT1H
BEGIN:VTIMEZONE
TZID:UTC
BEGIN:STANDARD
TZOFFSETFROM:+0000
TZOFFSETTO:+0000
TZNAME:UTC
DTSTART:20220101T000000
END:STANDARD
END:VTIMEZONE
BEGIN:VEVENT
DTSTART;TZID=UTC:20230329T104500
DTEND;TZID=UTC:20230329T150000
DTSTAMP:20260421T153223
CREATED:20220804T094103Z
LAST-MODIFIED:20230328T090511Z
UID:241269-1680086700-1680102000@www.teamdefence.info
SUMMARY:TD-Info Executive Team Town Hall Meeting
DESCRIPTION:The Team Defence Executive Team operate monthly sessions which will look to support and mature opportunities and guide the broad portfolio of Team Defence Activities so they align with the strategic direction and focus set by the Team Defence Strategy Group. \nThis meeting will be held as a Hybrid meeting and will take place at the Active Conference Centre in Thornbury as well as online.  The online details will be sent to all those who register. \n			\n			\n				\n				\n				\n				\n				\n				\n				\n				\n				\n				\n			\n				\n				\n				\n				\n				\nRegister here\n\n\n\n\n\n			\n				\n				\n				\n				\n				\nAgenda
URL:https://www.teamdefence.info/event/td-info-executive-team-11/
LOCATION:Active Conference Centre\, Thornbury Active Lifestyle Centre\,Alveston Hill\, Thornbury\, South Gloucestershire\, BS35 3JB\, United Kingdom
CATEGORIES:Exec Team,Members Only
END:VEVENT
END:VCALENDAR