BEGIN:VCALENDAR
VERSION:2.0
PRODID:-//Team Defence Information - ECPv6.15.16.1//NONSGML v1.0//EN
CALSCALE:GREGORIAN
METHOD:PUBLISH
X-WR-CALNAME:Team Defence Information
X-ORIGINAL-URL:https://www.teamdefence.info
X-WR-CALDESC:Events for Team Defence Information
REFRESH-INTERVAL;VALUE=DURATION:PT1H
X-Robots-Tag:noindex
X-PUBLISHED-TTL:PT1H
BEGIN:VTIMEZONE
TZID:UTC
BEGIN:STANDARD
TZOFFSETFROM:+0000
TZOFFSETTO:+0000
TZNAME:UTC
DTSTART:20210101T000000
END:STANDARD
END:VTIMEZONE
BEGIN:VEVENT
DTSTART;TZID=UTC:20220630T130000
DTEND;TZID=UTC:20220630T150000
DTSTAMP:20260420T032902
CREATED:20220427T114209Z
LAST-MODIFIED:20240619T165838Z
UID:240182-1656594000-1656601200@www.teamdefence.info
SUMMARY:TD-Info Council And AGM Meeting
DESCRIPTION:This meeting will be a joint meeting of the TD-Info Council starting at 13:00 followed by the Annual General Meeting which will take place at 14:50.  The Council Meeting is by invite only. \nThe Teams link will be sent to all those who register to attend. \n  \n			\n			\n				\n				\n				\n				\n				\n				\n				\n				\n				\n				\n			\n				\n				\n				\n				\n				\nRegister here
URL:https://www.teamdefence.info/event/https-admin-teamdefence-info-public-delegate-registration-page-1-phpid77/
LOCATION:TD-Info\, 6A Pinkers Court\, Briarlands Office Park\, Bristol\, BS35 3QH\, United Kingdom
CATEGORIES:AGM,Members Only,TD-Info Council
END:VEVENT
END:VCALENDAR