BEGIN:VCALENDAR
VERSION:2.0
PRODID:-//Team Defence Information - ECPv6.15.16.1//NONSGML v1.0//EN
CALSCALE:GREGORIAN
METHOD:PUBLISH
X-ORIGINAL-URL:https://www.teamdefence.info
X-WR-CALDESC:Events for Team Defence Information
REFRESH-INTERVAL;VALUE=DURATION:PT1H
X-Robots-Tag:noindex
X-PUBLISHED-TTL:PT1H
BEGIN:VTIMEZONE
TZID:UTC
BEGIN:STANDARD
TZOFFSETFROM:+0000
TZOFFSETTO:+0000
TZNAME:UTC
DTSTART:20210101T000000
END:STANDARD
END:VTIMEZONE
BEGIN:VEVENT
DTSTART;TZID=UTC:20240318T130000
DTEND;TZID=UTC:20240318T140000
DTSTAMP:20260419T180747
CREATED:20240304T135504Z
LAST-MODIFIED:20240304T135607Z
UID:245918-1710766800-1710770400@www.teamdefence.info
SUMMARY:Industry Customers Engagement Forum (ICEF)
DESCRIPTION:Please log-in to view this content.
URL:https://www.teamdefence.info/event/industry-customers-engagement-forum-icef-9/
LOCATION:Virtual – MS Teams
CATEGORIES:ICEF,Members Only
END:VEVENT
BEGIN:VEVENT
DTSTART;TZID=UTC:20240129T130000
DTEND;TZID=UTC:20240129T150000
DTSTAMP:20260419T180747
CREATED:20230109T074511Z
LAST-MODIFIED:20240105T173658Z
UID:242449-1706533200-1706540400@www.teamdefence.info
SUMMARY:Industry Customers Engagement Forum (ICEF)
DESCRIPTION:Please log-in to view this content.
URL:https://www.teamdefence.info/event/industry-customers-engagement-forum-icef-15/
LOCATION:MOD Corsham\, Westwells Road\, Hawthorn\, SN13 9NR
CATEGORIES:ICEF,Members Only
END:VEVENT
BEGIN:VEVENT
DTSTART;TZID=UTC:20231211T130000
DTEND;TZID=UTC:20231211T150000
DTSTAMP:20260419T180747
CREATED:20230109T074426Z
LAST-MODIFIED:20231106T150011Z
UID:242447-1702299600-1702306800@www.teamdefence.info
SUMMARY:Industry Customers Engagement Forum (ICEF)
DESCRIPTION:Please log-in to view this content.
URL:https://www.teamdefence.info/event/industry-customers-engagement-forum-icef-14/
LOCATION:MOD Corsham\, Westwells Road\, Hawthorn\, SN13 9NR
CATEGORIES:ICEF,Members Only
END:VEVENT
BEGIN:VEVENT
DTSTART;TZID=UTC:20231030T130000
DTEND;TZID=UTC:20231030T150000
DTSTAMP:20260419T180747
CREATED:20230109T074349Z
LAST-MODIFIED:20230412T082420Z
UID:242445-1698670800-1698678000@www.teamdefence.info
SUMMARY:Industry Customers Engagement Forum (ICEF)
DESCRIPTION:Please log-in to view this content.
URL:https://www.teamdefence.info/event/industry-customers-engagement-forum-icef-13/
LOCATION:MOD Corsham\, Westwells Road\, Hawthorn\, SN13 9NR
CATEGORIES:ICEF,Members Only
END:VEVENT
BEGIN:VEVENT
DTSTART;TZID=UTC:20230911T130000
DTEND;TZID=UTC:20230911T150000
DTSTAMP:20260419T180747
CREATED:20230109T074304Z
LAST-MODIFIED:20230412T082238Z
UID:242442-1694437200-1694444400@www.teamdefence.info
SUMMARY:Industry Customers Engagement Forum (ICEF)
DESCRIPTION:Please log-in to view this content.
URL:https://www.teamdefence.info/event/industry-customers-engagement-forum-icef-12/
LOCATION:MOD Corsham\, Westwells Road\, Hawthorn\, SN13 9NR
CATEGORIES:ICEF,Members Only
END:VEVENT
BEGIN:VEVENT
DTSTART;TZID=UTC:20230724T130000
DTEND;TZID=UTC:20230724T150000
DTSTAMP:20260419T180747
CREATED:20230109T074220Z
LAST-MODIFIED:20230724T075555Z
UID:242440-1690203600-1690210800@www.teamdefence.info
SUMMARY:Industry Customers Engagement Forum (ICEF)
DESCRIPTION:Please log-in to view this content.
URL:https://www.teamdefence.info/event/industry-customers-engagement-forum-icef-11/
LOCATION:MOD Corsham\, Westwells Road\, Hawthorn\, SN13 9NR
CATEGORIES:ICEF,Members Only
END:VEVENT
BEGIN:VEVENT
DTSTART;TZID=UTC:20230612T130000
DTEND;TZID=UTC:20230612T150000
DTSTAMP:20260419T180747
CREATED:20230109T074142Z
LAST-MODIFIED:20230612T080444Z
UID:242438-1686574800-1686582000@www.teamdefence.info
SUMMARY:Industry Customers Engagement Forum (ICEF)
DESCRIPTION:Please log-in to view this content.
URL:https://www.teamdefence.info/event/industry-customers-engagement-forum-icef-10/
CATEGORIES:ICEF,Members Only
END:VEVENT
BEGIN:VEVENT
DTSTART;TZID=UTC:20230227T130000
DTEND;TZID=UTC:20230227T150000
DTSTAMP:20260419T180747
CREATED:20230109T073829Z
LAST-MODIFIED:20230214T091451Z
UID:242433-1677502800-1677510000@www.teamdefence.info
SUMMARY:Industry Customers Engagement Forum (ICEF)
DESCRIPTION:Please log-in to view this content.
URL:https://www.teamdefence.info/event/industry-customers-engagement-forum-icef-8/
LOCATION:MOD Corsham\, Westwells Road\, Hawthorn\, SN13 9NR
CATEGORIES:ICEF,Members Only
END:VEVENT
BEGIN:VEVENT
DTSTART;TZID=UTC:20230109T130000
DTEND;TZID=UTC:20230109T150000
DTSTAMP:20260419T180747
CREATED:20220328T202638Z
LAST-MODIFIED:20230109T073612Z
UID:238873-1673269200-1673276400@www.teamdefence.info
SUMMARY:Industry Customers Engagement Forum (ICEF)
DESCRIPTION:Please log-in to view this content.
URL:https://www.teamdefence.info/event/industry-customers-engagement-forum-icef-2/
LOCATION:MOD Corsham\, Westwells Road\, Hawthorn\, SN13 9NR
CATEGORIES:ICEF,Members Only
END:VEVENT
BEGIN:VEVENT
DTSTART;TZID=UTC:20221128T130000
DTEND;TZID=UTC:20221128T150000
DTSTAMP:20260419T180747
CREATED:20220328T203400Z
LAST-MODIFIED:20221122T123044Z
UID:238878-1669640400-1669647600@www.teamdefence.info
SUMMARY:Industry Customers Engagement Forum (ICEF)
DESCRIPTION:Please log-in to view this content.
URL:https://www.teamdefence.info/event/industry-customers-engagement-forum-icef-4/
CATEGORIES:ICEF,Members Only
END:VEVENT
BEGIN:VEVENT
DTSTART;TZID=UTC:20221017T130000
DTEND;TZID=UTC:20221017T150000
DTSTAMP:20260419T180747
CREATED:20220328T203405Z
LAST-MODIFIED:20221014T130718Z
UID:238879-1666011600-1666018800@www.teamdefence.info
SUMMARY:Industry Customers Engagement Forum (ICEF)
DESCRIPTION:Please log-in to view this content.
URL:https://www.teamdefence.info/event/industry-customers-engagement-forum-icef-5/
LOCATION:TD-Info\, 6A Pinkers Court\, Briarlands Office Park\, Bristol\, BS35 3QH\, United Kingdom
CATEGORIES:ICEF,Members Only
END:VEVENT
BEGIN:VEVENT
DTSTART;TZID=UTC:20220912T130000
DTEND;TZID=UTC:20220912T150000
DTSTAMP:20260419T180747
CREATED:20220328T202843Z
LAST-MODIFIED:20230411T161024Z
UID:238875-1662987600-1662994800@www.teamdefence.info
SUMMARY:Industry Customers Engagement Forum (ICEF)
DESCRIPTION:Please log-in to view this content.
URL:https://www.teamdefence.info/event/industry-customers-engagement-forum-icef-3/
LOCATION:MOD Corsham\, Westwells Road\, Hawthorn\, SN13 9NR
CATEGORIES:ICEF,Members Only
END:VEVENT
BEGIN:VEVENT
DTSTART;TZID=UTC:20220719T130000
DTEND;TZID=UTC:20220719T150000
DTSTAMP:20260419T180747
CREATED:20220328T203408Z
LAST-MODIFIED:20220718T121152Z
UID:238877-1658235600-1658242800@www.teamdefence.info
SUMMARY:Industry Customers Engagement Forum (ICEF)
DESCRIPTION:Please log-in to view this content.
URL:https://www.teamdefence.info/event/industry-customers-engagement-forum-icef-6/
CATEGORIES:ICEF,Members Only
END:VEVENT
BEGIN:VEVENT
DTSTART;TZID=UTC:20220613T130000
DTEND;TZID=UTC:20220613T150000
DTSTAMP:20260419T180747
CREATED:20220530T130052Z
LAST-MODIFIED:20220613T114402Z
UID:240159-1655125200-1655132400@www.teamdefence.info
SUMMARY:Industry Customers Engagement Forum (ICEF)
DESCRIPTION:Please log-in to view this content.
URL:https://www.teamdefence.info/event/industry-customers-engagement-forum-icef-7/
LOCATION:MOD Corsham\, Westwells Road\, Hawthorn\, SN13 9NR
CATEGORIES:ICEF,Members Only
END:VEVENT
BEGIN:VEVENT
DTSTART;TZID=UTC:20220516T130000
DTEND;TZID=UTC:20220516T150000
DTSTAMP:20260419T180747
CREATED:20220426T134247Z
LAST-MODIFIED:20220510T145346Z
UID:240115-1652706000-1652713200@www.teamdefence.info
SUMMARY:Industry Customer Engagement Forum
DESCRIPTION:Please log-in to view this content.
URL:https://www.teamdefence.info/event/industry-customer-engagement-forum/
LOCATION:MOD Corsham\, Westwells Road\, Hawthorn\, SN13 9NR
CATEGORIES:ICEF,Members Only
ORGANIZER;CN="Sue Russell":MAILTO:sue.russell@teamdefence.info
END:VEVENT
BEGIN:VEVENT
DTSTART;TZID=UTC:20220425T130000
DTEND;TZID=UTC:20220425T150000
DTSTAMP:20260419T180747
CREATED:20220315T193243Z
LAST-MODIFIED:20220427T095242Z
UID:238093-1650891600-1650898800@www.teamdefence.info
SUMMARY:Industry Customers Engagement Forum (ICEF)
DESCRIPTION:Please log-in to view this content.
URL:https://www.teamdefence.info/event/industry-customers-engagement-forum-icef/
CATEGORIES:CoP,ICEF,Members Only,test
ORGANIZER;CN="Sue Russell":MAILTO:sue.russell@teamdefence.info
END:VEVENT
END:VCALENDAR