BEGIN:VCALENDAR
VERSION:2.0
PRODID:-//Team Defence Information - ECPv6.15.16.1//NONSGML v1.0//EN
CALSCALE:GREGORIAN
METHOD:PUBLISH
X-ORIGINAL-URL:https://www.teamdefence.info
X-WR-CALDESC:Events for Team Defence Information
REFRESH-INTERVAL;VALUE=DURATION:PT1H
X-Robots-Tag:noindex
X-PUBLISHED-TTL:PT1H
BEGIN:VTIMEZONE
TZID:UTC
BEGIN:STANDARD
TZOFFSETFROM:+0000
TZOFFSETTO:+0000
TZNAME:UTC
DTSTART:20230101T000000
END:STANDARD
END:VTIMEZONE
BEGIN:VEVENT
DTSTART;TZID=UTC:20241002T130000
DTEND;TZID=UTC:20241002T150000
DTSTAMP:20260421T103242
CREATED:20240320T152947Z
LAST-MODIFIED:20240923T132203Z
UID:246037-1727874000-1727881200@www.teamdefence.info
SUMMARY:Integrated Product Support (IPS) CoP
DESCRIPTION:To support the UK MoD and UK industry in improving Supportability Engineering (ILS) standards\, processes (technical and management) and training in order to improve the effectiveness and the efficiency of Supportability Engineering (ILS) programmes and hence ultimately to improve the effectiveness and efficiency of the Total System (comprising the System of Interest\, the Support System and the Concept of Employment). That is\, we strive to improve the Whole Life Cost Effectiveness of the “System of Interest”. \nThis will be a Virtual meeting held via MS Teams 13.00 – 15.00. \n			\n			\n				\n				\n				\n				\n				\n				\n				\n				\n				\n				\n			\n				\n				\n				\n				\n				\nRegister here\n\n\n\n\n\n			\n				\n				\n				\n				\n				\nAgenda
URL:https://www.teamdefence.info/event/integrated-product-support-ips-cop-6/
LOCATION:Virtual – MS Teams
CATEGORIES:Community of Practice,CoP,IPS CoP,Members Only
END:VEVENT
BEGIN:VEVENT
DTSTART;TZID=UTC:20241015T100000
DTEND;TZID=UTC:20241015T120000
DTSTAMP:20260421T103242
CREATED:20240226T135955Z
LAST-MODIFIED:20241010T135053Z
UID:245830-1728986400-1728993600@www.teamdefence.info
SUMMARY:Defence Asset Management CoP
DESCRIPTION:Under the auspices of TD-Info\, the DAM CoP is a standing joint MOD\, Defence Industry and the Institute of Asset Management (IAM) community of practice. The IAM is the Asset Management (AM) professional body and will be represented by the IAM SW Branch. \nThe DAM CoP will offer outputs and information that can be exploited by Asset Management professionals across the whole of MOD and Industry. These outputs will improve day to day practices in Asset Management across Defence as well as informing strategic decisions about professionalization. \nThis meeting will be held both In-person at TD-Info Office\, Rudgeway and Virtually via MS Teams. Teams link received upon registration. \nThe agenda will be released to attendees once the presenters and content have been confirmed. \nFor questions regarding registration please contact Kelly and for questions about this meeting please contact Eion \n			\n			\n				\n				\n				\n				\n				\n				\n				\n				\n				\n				\n			\n				\n				\n				\n				\n				\nRegister here\n\n\n\n\n\n			\n				\n				\n				\n				\n				\nAgenda
URL:https://www.teamdefence.info/event/defence-asset-management-cop-8/
LOCATION:TD-Info\, 6A Pinkers Court\, Briarlands Office Park\, Bristol\, BS35 3QH\, United Kingdom
CATEGORIES:DAM_CoP,Members Only
END:VEVENT
BEGIN:VEVENT
DTSTART;TZID=UTC:20241021T130000
DTEND;TZID=UTC:20241021T150000
DTSTAMP:20260421T103242
CREATED:20240304T154005Z
LAST-MODIFIED:20240304T154008Z
UID:245932-1729515600-1729522800@www.teamdefence.info
SUMMARY:Industry Customers Engagement Forum (ICEF)
DESCRIPTION:Industry Customer Engagement Forum – regular Industry Engagement meeting\, hosted by MOD\, to address issues affecting Industry-based consumers of MOD-provided services. \nFor further information\, please contact Tony Butler \n			\n			\n				\n				\n				\n				\n				\n				\n				\n				\n				\n				\n			\n				\n				\n				\n				\n				\nRegister
URL:https://www.teamdefence.info/event/industry-customers-engagement-forum-icef-20/
LOCATION:Hybrid
CATEGORIES:ICEF,Members Only
END:VEVENT
END:VCALENDAR