BEGIN:VCALENDAR
VERSION:2.0
PRODID:-//Team Defence Information - ECPv6.15.16.1//NONSGML v1.0//EN
CALSCALE:GREGORIAN
METHOD:PUBLISH
X-WR-CALNAME:Team Defence Information
X-ORIGINAL-URL:https://www.teamdefence.info
X-WR-CALDESC:Events for Team Defence Information
REFRESH-INTERVAL;VALUE=DURATION:PT1H
X-Robots-Tag:noindex
X-PUBLISHED-TTL:PT1H
BEGIN:VTIMEZONE
TZID:UTC
BEGIN:STANDARD
TZOFFSETFROM:+0000
TZOFFSETTO:+0000
TZNAME:UTC
DTSTART:20220101T000000
END:STANDARD
END:VTIMEZONE
BEGIN:VEVENT
DTSTART;TZID=UTC:20231109T103000
DTEND;TZID=UTC:20231109T123000
DTSTAMP:20260423T143134
CREATED:20231031T131051Z
LAST-MODIFIED:20231108T152057Z
UID:244688-1699525800-1699533000@www.teamdefence.info
SUMMARY:MOD IPS Transition Working Group
DESCRIPTION:This sub working group is open to all interested parties that would like the opportunity to assist the Ministry of Defence transition to IPS and the ASD S-Series. There will be some complicated issues to discuss and resolve that would not likely be possible without the collective mindset and experience from the members of TDI. This sub working group will be held on a regular basis and will be fundamental to the MOD transition from ILS to IPS by September 2024. However this will not be a talking shop for any perceived issues or wished technical amendments to the ASD S-Series\, its focus is solely on MOD adoption. Ryan Griffin (MOD IPS Transition Project Manager) and Mark Willis (CDS Defence & Security) will be the respective MOD and industry chairs. \nPlease contact Leyton Lark for further information. \n			\n			\n				\n				\n				\n				\n				\n				\n				\n				\n				\n				\n			\n				\n				\n				\n				\n				\nRegister here
URL:https://www.teamdefence.info/event/mod-ips-transition-working-group-3/
LOCATION:TD-Info\, 6A Pinkers Court\, Briarlands Office Park\, Bristol\, BS35 3QH\, United Kingdom
CATEGORIES:IPS CoP,JISCOT
END:VEVENT
BEGIN:VEVENT
DTSTART;TZID=UTC:20231130T100000
DTEND;TZID=UTC:20231130T123000
DTSTAMP:20260423T143134
CREATED:20230221T095949Z
LAST-MODIFIED:20231113T095719Z
UID:242768-1701338400-1701347400@www.teamdefence.info
SUMMARY:Integrated Product Support (IPS) CoP
DESCRIPTION:To support the UK MoD and UK industry in improving Supportability Engineering (ILS) standards\, processes (technical and management) and training in order to improve the effectiveness and the efficiency of Supportability Engineering (ILS) programmes and hence ultimately to improve the effectiveness and efficiency of the Total System (comprising the System of Interest\, the Support System and the Concept of Employment). That is\, we strive to improve the Whole Life Cost Effectiveness of the “System of Interest”. \n  \n			\n			\n				\n				\n				\n				\n				\n				\n				\n				\n				\n				\n			\n				\n				\n				\n				\n				\nRegister here\n\n\n\n\n\n			\n				\n				\n				\n				\n				\nAgenda
URL:https://www.teamdefence.info/event/integrated-product-support-ips-cop-3/
CATEGORIES:Community of Practice,CoP,IPS CoP,Members Only
END:VEVENT
END:VCALENDAR