BEGIN:VCALENDAR
VERSION:2.0
PRODID:-//Team Defence Information - ECPv6.15.16.1//NONSGML v1.0//EN
CALSCALE:GREGORIAN
METHOD:PUBLISH
X-WR-CALNAME:Team Defence Information
X-ORIGINAL-URL:https://www.teamdefence.info
X-WR-CALDESC:Events for Team Defence Information
REFRESH-INTERVAL;VALUE=DURATION:PT1H
X-Robots-Tag:noindex
X-PUBLISHED-TTL:PT1H
BEGIN:VTIMEZONE
TZID:UTC
BEGIN:STANDARD
TZOFFSETFROM:+0000
TZOFFSETTO:+0000
TZNAME:UTC
DTSTART:20220101T000000
END:STANDARD
END:VTIMEZONE
BEGIN:VEVENT
DTSTART;TZID=UTC:20230911T130000
DTEND;TZID=UTC:20230911T150000
DTSTAMP:20260423T223840
CREATED:20230109T074304Z
LAST-MODIFIED:20230412T082238Z
UID:242442-1694437200-1694444400@www.teamdefence.info
SUMMARY:Industry Customers Engagement Forum (ICEF)
DESCRIPTION:Industry Customer Engagement Forum – regular Industry Engagement meeting\, hosted by MOD\, to address issues affecting Industry-based consumers of MOD-provided services.   \nFor further information\, please contact Tony Butler \n			\n			\n				\n				\n				\n				\n				\n				\n				\n				\n				\n				\n			\n				\n				\n				\n				\n				\nRegister
URL:https://www.teamdefence.info/event/industry-customers-engagement-forum-icef-12/
LOCATION:MOD Corsham\, Westwells Road\, Hawthorn\, SN13 9NR
CATEGORIES:ICEF,Members Only
END:VEVENT
BEGIN:VEVENT
DTSTART;TZID=UTC:20230920T100000
DTEND;TZID=UTC:20230920T123000
DTSTAMP:20260423T223840
CREATED:20230221T095855Z
LAST-MODIFIED:20230905T101601Z
UID:242767-1695204000-1695213000@www.teamdefence.info
SUMMARY:Integrated Product Support (IPS) CoP
DESCRIPTION:To support the UK MoD and UK industry in improving Supportability Engineering (ILS) standards\, processes (technical and management) and training in order to improve the effectiveness and the efficiency of Supportability Engineering (ILS) programmes and hence ultimately to improve the effectiveness and efficiency of the Total System (comprising the System of Interest\, the Support System and the Concept of Employment). That is\, we strive to improve the Whole Life Cost Effectiveness of the “System of Interest”. \n  \n			\n			\n				\n				\n				\n				\n				\n				\n				\n				\n				\n				\n			\n				\n				\n				\n				\n				\nRegister here\n\n\n\n\n\n			\n				\n				\n				\n				\n				\nAgenda
URL:https://www.teamdefence.info/event/integrated-product-support-ips-cop-2/
CATEGORIES:Community of Practice,CoP,IPS CoP,Members Only
END:VEVENT
BEGIN:VEVENT
DTSTART;TZID=UTC:20230921T140000
DTEND;TZID=UTC:20230921T160000
DTSTAMP:20260423T223840
CREATED:20230424T101243Z
LAST-MODIFIED:20230920T092412Z
UID:243183-1695304800-1695312000@www.teamdefence.info
SUMMARY:Defence Asset Management CoP
DESCRIPTION:Under the auspices of TD-Info\, the AMCoP is a standing joint MOD\, Defence Industry and the Institute of Asset Management (IAM) community of practice. The IAM is the Asset Management (AM) professional body and will be represented by the IAM SW Branch. \nThe AMCoP will offer outputs and information that can be exploited by Asset Management professionals across the whole of MOD and Industry. These outputs will improve day to day practices in Asset Management across Defence as well as informing strategic decisions about professionalization. \nThe agenda will be released to attendees once the presenters and content have been confirmed. \n			\n			\n				\n				\n				\n				\n				\n				\n				\n				\n				\n				\n			\n				\n				\n				\n				\n				\nRegister here\n\n\n\n\n\n			\n				\n				\n				\n				\n				\nAgenda
URL:https://www.teamdefence.info/event/defence-asset-management-cop-4/
CATEGORIES:DAM_CoP,Members Only
END:VEVENT
BEGIN:VEVENT
DTSTART;TZID=UTC:20230927T100000
DTEND;TZID=UTC:20230927T123000
DTSTAMP:20260423T223840
CREATED:20230731T100309Z
LAST-MODIFIED:20230918T080018Z
UID:243910-1695808800-1695817800@www.teamdefence.info
SUMMARY:MOD IPS Transition Working Group
DESCRIPTION:This sub working group is open to all interested parties that would like the opportunity to assist the Ministry of Defence transition to IPS and the ASD S-Series. There will be some complicated issues to discuss and resolve that would not likely be possible without the collective mindset and experience from the members of TDI. This sub working group will be held on a regular basis and will be fundamental to the MOD transition from ILS to IPS by September 2024. However this will not be a talking shop for any perceived issues or wished technical amendments to the ASD S-Series\, its focus is solely on MOD adoption. Ryan Griffin (MOD IPS Transition Project Manager) and Mark Willis (CDS Defence & Security) will be the respective MOD and industry chairs. \nPlease contact Leyton Lark for further information. \n			\n			\n				\n				\n				\n				\n				\n				\n				\n				\n				\n				\n			\n				\n				\n				\n				\n				\nRegister here
URL:https://www.teamdefence.info/event/mod-ips-transition-working-group-2/
LOCATION:TD-Info\, 6A Pinkers Court\, Briarlands Office Park\, Bristol\, BS35 3QH\, United Kingdom
CATEGORIES:IPS CoP,JISCOT
END:VEVENT
END:VCALENDAR