BEGIN:VCALENDAR
VERSION:2.0
PRODID:-//Team Defence Information - ECPv6.15.16.1//NONSGML v1.0//EN
CALSCALE:GREGORIAN
METHOD:PUBLISH
X-ORIGINAL-URL:https://www.teamdefence.info
X-WR-CALDESC:Events for Team Defence Information
REFRESH-INTERVAL;VALUE=DURATION:PT1H
X-Robots-Tag:noindex
X-PUBLISHED-TTL:PT1H
BEGIN:VTIMEZONE
TZID:UTC
BEGIN:STANDARD
TZOFFSETFROM:+0000
TZOFFSETTO:+0000
TZNAME:UTC
DTSTART:20210101T000000
END:STANDARD
END:VTIMEZONE
BEGIN:VEVENT
DTSTART;TZID=UTC:20221201T090000
DTEND;TZID=UTC:20221201T110000
DTSTAMP:20260425T123952
CREATED:20221027T125438Z
LAST-MODIFIED:20221201T090039Z
UID:241990-1669885200-1669892400@www.teamdefence.info
SUMMARY:Defence Asset Management CoP
DESCRIPTION:Under the auspices of TD-Info\, the AMCoP is a standing joint MOD\, Defence Industry and the Institute of Asset Management (IAM) community of practice. The IAM is the Asset Management (AM) professional body and will be represented by the IAM SW Branch. \nThe AMCoP will offer outputs and information that can be exploited by Asset Management professionals across the whole of MOD and Industry. These outputs will improve day to day practices in Asset Management across Defence as well as informing strategic decisions about professionalization. \nThe agenda will be released to attendees once the presenters and content have been confirmed. \n			\n			\n				\n				\n				\n				\n				\n				\n				\n				\n				\n				\n			\n				\n				\n				\n				\n				\nRegister here\n\n\n\n\n\n			\n				\n				\n				\n				\n				\nAgenda
URL:https://www.teamdefence.info/event/defence-asset-management-cop-3/
CATEGORIES:DAM_CoP,Members Only
ORGANIZER;CN="Jack Thompson":MAILTO:jack.thompson@teamdefence.info
END:VEVENT
BEGIN:VEVENT
DTSTART;TZID=UTC:20221201T100000
DTEND;TZID=UTC:20221201T120000
DTSTAMP:20260425T123952
CREATED:20220427T153337Z
LAST-MODIFIED:20221129T101300Z
UID:240272-1669888800-1669896000@www.teamdefence.info
SUMMARY:Integrated Product Support (IPS) CoP (Formerly SCSEWG)
DESCRIPTION:To support the UK MoD and UK industry in improving Supportability Engineering (ILS) standards\, processes (technical and management) and training in order to improve the effectiveness and the efficiency of Supportability Engineering (ILS) programmes and hence ultimately to improve the effectiveness and efficiency of the Total System (comprising the System of Interest\, the Support System and the Concept of Employment). That is\, we strive to improve the Whole Life Cost Effectiveness of the “System of Interest”. \nThis meeting has been cancelled for now and the Group will be advised as soon as we have confirmation of a new date.
URL:https://www.teamdefence.info/event/integrated-product-support-ips-cop-formerly-scsewg-3/
CATEGORIES:Community of Practice,CoP,IPS CoP,Members Only
END:VEVENT
END:VCALENDAR