BEGIN:VCALENDAR
VERSION:2.0
PRODID:-//Team Defence Information - ECPv6.15.16.1//NONSGML v1.0//EN
CALSCALE:GREGORIAN
METHOD:PUBLISH
X-ORIGINAL-URL:https://www.teamdefence.info
X-WR-CALDESC:Events for Team Defence Information
REFRESH-INTERVAL;VALUE=DURATION:PT1H
X-Robots-Tag:noindex
X-PUBLISHED-TTL:PT1H
BEGIN:VTIMEZONE
TZID:UTC
BEGIN:STANDARD
TZOFFSETFROM:+0000
TZOFFSETTO:+0000
TZNAME:UTC
DTSTART:20210101T000000
END:STANDARD
END:VTIMEZONE
BEGIN:VEVENT
DTSTART;TZID=UTC:20220505T130000
DTEND;TZID=UTC:20220505T150000
DTSTAMP:20260426T032847
CREATED:20220325T174400Z
LAST-MODIFIED:20220325T181807Z
UID:238744-1651755600-1651762800@www.teamdefence.info
SUMMARY:Defence Asset Management CoP
DESCRIPTION:Under the auspices of TD-Info\, the AMCoP is a standing joint MOD\, Defence Industry and the Institute of Asset Management (IAM) community of practice. The IAM is the Asset Management (AM) professional body and will be represented by the IAM SW Branch. \nThe AMCoP will offer outputs and information that can be exploited by Asset Management professionals across the whole of MOD and Industry. These outputs will improve day to day practices in Asset Management across Defence as well as informing strategic decisions about professionalization. \nThe agenda will be released to attendees once the presenters and content have been confirmed. \nIn Person at: \nMott MacDonald\n10 Temple Back\nBristol BS1 6FL\nUnited Kingdom \nMaximum 25 in attendance at Mott MacDonald office.  Please send an email to admin@teamdefence.info if you wish to attend in person.  \nConfirmation of a negative lateral flow test will be requested. \nMicrosoft Teams meeting \nJoin on your computer or mobile app\nClick here to join the meeting\nOr call in (audio only)\n+44 20 7660 8302\,\,217365047#  \nPhone Conference ID: 217 365 047#
URL:https://www.teamdefence.info/event/defence-asset-management-community-of-practice/
LOCATION:Mott MacDonald\, 10 Temple Back Bristol\, Bristol\, BS1 6FL\, United Kingdom
CATEGORIES:DAM_CoP,Members Only
ORGANIZER;CN="Sue Russell":MAILTO:sue.russell@teamdefence.info
END:VEVENT
BEGIN:VEVENT
DTSTART;TZID=UTC:20220516T130000
DTEND;TZID=UTC:20220516T150000
DTSTAMP:20260426T032847
CREATED:20220426T134247Z
LAST-MODIFIED:20220510T145346Z
UID:240115-1652706000-1652713200@www.teamdefence.info
SUMMARY:Industry Customer Engagement Forum
DESCRIPTION:Industry Customer Engagement Forum – regular Industry Engagement meeting\, hosted by MOD\, to address issues affecting Industry-based consumers of MOD-provided services.  Use the links below to add this virtual meeting to your calendar. \nFor further information\, please contact Tony Butler \n			\n			\n				\n				\n				\n				\n				\n				\n				\n				\n				\n				\n			\n				\n				\n				\n				\n				\nRegister
URL:https://www.teamdefence.info/event/industry-customer-engagement-forum/
LOCATION:MOD Corsham\, Westwells Road\, Hawthorn\, SN13 9NR
CATEGORIES:ICEF,Members Only
ORGANIZER;CN="Sue Russell":MAILTO:sue.russell@teamdefence.info
END:VEVENT
BEGIN:VEVENT
DTSTART;TZID=UTC:20220525T133000
DTEND;TZID=UTC:20220525T153000
DTSTAMP:20260426T032847
CREATED:20220429T155016Z
LAST-MODIFIED:20220429T205100Z
UID:240297-1653485400-1653492600@www.teamdefence.info
SUMMARY:The DAM CoP Task 1 ‘Implementation of AM across Defence’ Kick-Off Meeting
DESCRIPTION:Task Group\nThis is a joint activity between MOD & Industry facilitated by TD-Info. \nTo be successful this task requires a mix of experience and background including: \n\nAsset Management and ISO55000\nVarious Defence domains (Air\, Maritime\, Land\, Submarine\, Infra\, Equipment)\nThrough Life Management (e.g. PAS280\, ISO15288\, etc.)\n\nTasks\nThis task is to establish and document how Asset Management should be implemented across Defence. \nOutput\nThe output of this assessment will be a joint MOD and thought leadership paper that will help inform: \n\nWhich parts of defence enterprise should be doing which parts of AM\nWhat is common across defence\nWhat is unique to some parts of defence\nHow can TD-Info support the industry to move forward\n\nOutcome\nProvide an evidence-based recommendation on how Asset management should be implemented across Defence. \n This meeting is by invitation only.\nFor more information please contact Pierre Delamotte \n 
URL:https://www.teamdefence.info/event/the-dam-cop-task-1-implementation-of-am-across-defence-kick-off-meeting/
CATEGORIES:DAM_CoP,Members Only
END:VEVENT
BEGIN:VEVENT
DTSTART;TZID=UTC:20220525T133000
DTEND;TZID=UTC:20220525T163000
DTSTAMP:20260426T032847
CREATED:20220401T094329Z
LAST-MODIFIED:20220426T113029Z
UID:239529-1653485400-1653496200@www.teamdefence.info
SUMMARY:33rd Joint Obsolescence Management Working Group (JOMWG)
DESCRIPTION:Virtual Meeting using Microsoft Teams \nFor more information and to join this group please get in touch with Alan Orr \n			\n			\n				\n				\n				\n				\n				\n				\n				\n				\n				\n				\n			\n				\n				\n				\n				\n				\n			\n				\n				\n				\n				\n				\nAction List
URL:https://www.teamdefence.info/event/33rd-joint-obsolescence-management-working-group-jomwg/
CATEGORIES:JOMWG,Members Only
END:VEVENT
END:VCALENDAR