BEGIN:VCALENDAR
VERSION:2.0
PRODID:-//Team Defence Information - ECPv6.15.16.1//NONSGML v1.0//EN
CALSCALE:GREGORIAN
METHOD:PUBLISH
X-WR-CALNAME:Team Defence Information
X-ORIGINAL-URL:https://www.teamdefence.info
X-WR-CALDESC:Events for Team Defence Information
REFRESH-INTERVAL;VALUE=DURATION:PT1H
X-Robots-Tag:noindex
X-PUBLISHED-TTL:PT1H
BEGIN:VTIMEZONE
TZID:UTC
BEGIN:STANDARD
TZOFFSETFROM:+0000
TZOFFSETTO:+0000
TZNAME:UTC
DTSTART:20240101T000000
END:STANDARD
END:VTIMEZONE
BEGIN:VEVENT
DTSTART;TZID=UTC:20251212T120500
DTEND;TZID=UTC:20251212T125500
DTSTAMP:20260422T092318
CREATED:20250901T135326Z
LAST-MODIFIED:20250901T140212Z
UID:248877-1765541100-1765544100@www.teamdefence.info
SUMMARY:Knowledge Fridays Café
DESCRIPTION:Please log-in to view this content.
URL:https://www.teamdefence.info/event/knowledge-fridays-cafe-2/
LOCATION:Virtual – MS Teams
CATEGORIES:Community of Practice,KM CoP,Members Only
END:VEVENT
END:VCALENDAR