BEGIN:VCALENDAR
VERSION:2.0
PRODID:-//Team Defence Information - ECPv6.15.16.1//NONSGML v1.0//EN
CALSCALE:GREGORIAN
METHOD:PUBLISH
X-ORIGINAL-URL:https://www.teamdefence.info
X-WR-CALDESC:Events for Team Defence Information
REFRESH-INTERVAL;VALUE=DURATION:PT1H
X-Robots-Tag:noindex
X-PUBLISHED-TTL:PT1H
BEGIN:VTIMEZONE
TZID:UTC
BEGIN:STANDARD
TZOFFSETFROM:+0000
TZOFFSETTO:+0000
TZNAME:UTC
DTSTART:20240101T000000
END:STANDARD
END:VTIMEZONE
BEGIN:VEVENT
DTSTART;TZID=UTC:20251007T110000
DTEND;TZID=UTC:20251007T150000
DTSTAMP:20260423T084219
CREATED:20250707T143947Z
LAST-MODIFIED:20250822T094442Z
UID:248465-1759834800-1759849200@www.teamdefence.info
SUMMARY:TD-Info Knowledge Management Community of Practice
DESCRIPTION:Please log-in to view this content.
URL:https://www.teamdefence.info/event/td-info-knowledge-management-community-of-practice/
LOCATION:QinetiQ – Bristol\, Building 240\, Bristol Business Park\, Bristol\, BS16 1EJ\, United Kingdom
CATEGORIES:Community of Practice,KM CoP,Members Only
END:VEVENT
END:VCALENDAR