BEGIN:VCALENDAR
VERSION:2.0
PRODID:-//Team Defence Information - ECPv6.15.16.1//NONSGML v1.0//EN
CALSCALE:GREGORIAN
METHOD:PUBLISH
X-ORIGINAL-URL:https://www.teamdefence.info
X-WR-CALDESC:Events for Team Defence Information
REFRESH-INTERVAL;VALUE=DURATION:PT1H
X-Robots-Tag:noindex
X-PUBLISHED-TTL:PT1H
BEGIN:VTIMEZONE
TZID:UTC
BEGIN:STANDARD
TZOFFSETFROM:+0000
TZOFFSETTO:+0000
TZNAME:UTC
DTSTART:20250101T000000
END:STANDARD
END:VTIMEZONE
BEGIN:VEVENT
DTSTART;TZID=UTC:20260508T120500
DTEND;TZID=UTC:20260508T125500
DTSTAMP:20260421T124948
CREATED:20250901T135631Z
LAST-MODIFIED:20250901T140424Z
UID:248882-1778241900-1778244900@www.teamdefence.info
SUMMARY:Knowledge Fridays Café
DESCRIPTION:Please log-in to view this content.
URL:https://www.teamdefence.info/event/knowledge-fridays-cafe-3/
LOCATION:Virtual – MS Teams
CATEGORIES:Community of Practice,KM CoP,Members Only
END:VEVENT
END:VCALENDAR