BEGIN:VCALENDAR
VERSION:2.0
PRODID:-//Team Defence Information - ECPv6.15.16.1//NONSGML v1.0//EN
CALSCALE:GREGORIAN
METHOD:PUBLISH
X-ORIGINAL-URL:https://www.teamdefence.info
X-WR-CALDESC:Events for Team Defence Information
REFRESH-INTERVAL;VALUE=DURATION:PT1H
X-Robots-Tag:noindex
X-PUBLISHED-TTL:PT1H
BEGIN:VTIMEZONE
TZID:UTC
BEGIN:STANDARD
TZOFFSETFROM:+0000
TZOFFSETTO:+0000
TZNAME:UTC
DTSTART:20240101T000000
END:STANDARD
END:VTIMEZONE
BEGIN:VEVENT
DTSTART;TZID=UTC:20251113T110000
DTEND;TZID=UTC:20251113T120000
DTSTAMP:20260422T220745
CREATED:20250923T123913Z
LAST-MODIFIED:20250923T123919Z
UID:249084-1763031600-1763035200@www.teamdefence.info
SUMMARY:SME Showcase
DESCRIPTION:TD-Info are running a series of Showcasing Events on behalf of our members\, designed to help our SME (small to medium sized enterprise) community to demonstrate their organisations’ capabilities. This initiative also aligns to the MOD’s commitment to help and promote the SME community in the Defence sector. \nThe next event will be held on 13th November\, 1100 – 1200 \, online via Teams\, and will comprise of 3-4 SME’s presenting an overview of their company and capabilities\, to the TD-Info Membership base. Please register your interest in our next showcase at the link to the side of the page (event date and time subject to change.) \nIf you are an SME interested in getting involved with future showcases\, please contact julian.dayment@teamdefence.info and andy.whatman@teamdefence.info \n			\n			\n				\n				\n				\n				\n				\n				\n				\n				\n				\n				\n			\n				\n				\n				\n				\n				\nRegister here
URL:https://www.teamdefence.info/event/sme-showcase-4/
LOCATION:Virtual – MS Teams
CATEGORIES:Community of Practice,Governance,Private Working Groups,Public Working Groups,Showcase
END:VEVENT
BEGIN:VEVENT
DTSTART;TZID=UTC:20251114T120500
DTEND;TZID=UTC:20251114T125500
DTSTAMP:20260422T220745
CREATED:20250901T134222Z
LAST-MODIFIED:20250901T140125Z
UID:248862-1763121900-1763124900@www.teamdefence.info
SUMMARY:Knowledge Fridays Café
DESCRIPTION:‘Knowledge Fridays Café’ These regular informal meetings are opportunities to build our community and knowledge management practice through a series of guest speakers and discussion drawing from our memberships and further afield.  These meetings help to inform our current projects and shape the agenda for future work.  They are an opportunity for us to update each other about our KM inbox\, challenges and good ideas. \n Please note – Knowledge Friday Café (KFC) sessions are designed as 50 mins (online only) sessions\, to maximise opportunities to connect\, and to support members’ busy calendars. \n			\n			\n				\n				\n				\n				\n				\n				\n				\n				\n				\n				\n			\n				\n				\n				\n				\n				\nRegister here
URL:https://www.teamdefence.info/event/knowledge-friday-cafe/
LOCATION:Virtual – MS Teams
CATEGORIES:Community of Practice,KM CoP,Members Only
END:VEVENT
END:VCALENDAR