BEGIN:VCALENDAR
VERSION:2.0
PRODID:-//Team Defence Information - ECPv6.15.16.1//NONSGML v1.0//EN
CALSCALE:GREGORIAN
METHOD:PUBLISH
X-WR-CALNAME:Team Defence Information
X-ORIGINAL-URL:https://www.teamdefence.info
X-WR-CALDESC:Events for Team Defence Information
REFRESH-INTERVAL;VALUE=DURATION:PT1H
X-Robots-Tag:noindex
X-PUBLISHED-TTL:PT1H
BEGIN:VTIMEZONE
TZID:UTC
BEGIN:STANDARD
TZOFFSETFROM:+0000
TZOFFSETTO:+0000
TZNAME:UTC
DTSTART:20250101T000000
END:STANDARD
END:VTIMEZONE
BEGIN:VEVENT
DTSTART;TZID=UTC:20260512T140000
DTEND;TZID=UTC:20260512T160000
DTSTAMP:20260420T113953
CREATED:20260330T135510Z
LAST-MODIFIED:20260330T135516Z
UID:250547-1778594400-1778601600@www.teamdefence.info
SUMMARY:Standards Coordination WG
DESCRIPTION:The Mission of the Standards Coordination working group is to coordinate\, for the UK\, the MOD and Industry representation in the identification\, development\, deployment and maintenance of a coherent set of standards to meet the needs of UK Defence from this global activity within the scope of Team Defence Information (TD-Info) activity. \nOur next meeting will be a hybrid meeting\, in person at TD-Info office\, Rudgeway and virtually using Microsoft Teams. \nIf you have any questions please contact Kelly.gough@teamdefence.info \n  \n			\n			\n				\n				\n				\n				\n				\n				\n				\n				\n				\n				\n			\n				\n				\n				\n				\n				\nRegister here
URL:https://www.teamdefence.info/event/standards-coordination-wg-2/
LOCATION:TD-Info\, 6A Pinkers Court\, Briarlands Office Park\, Bristol\, BS35 3QH\, United Kingdom
CATEGORIES:CLEP,JISCOT,Standards
END:VEVENT
BEGIN:VEVENT
DTSTART;TZID=UTC:20260616T100000
DTEND;TZID=UTC:20260616T150000
DTSTAMP:20260420T113953
CREATED:20251104T155708Z
LAST-MODIFIED:20260210T121001Z
UID:249453-1781604000-1781622000@www.teamdefence.info
SUMMARY:The Supportability Modelling and Analysis CoP
DESCRIPTION:A working group that seeks to identify and promulgate good practice in life cycle cost modelling across the UK Defence sector and contribute to the realisation of the DSCM vision. \nFor further information\, please get in touch with Leyton Lark \n  \n			\n			\n				\n				\n				\n				\n				\n				\n				\n				\n				\n				\n			\n				\n				\n				\n				\n				\nRegister here
URL:https://www.teamdefence.info/event/the-supportability-modelling-and-analysis-cop-13/
LOCATION:TD-Info\, 6A Pinkers Court\, Briarlands Office Park\, Bristol\, BS35 3QH\, United Kingdom
CATEGORIES:CLEP,Members Only,SMAWG
END:VEVENT
BEGIN:VEVENT
DTSTART;TZID=UTC:20260625T140000
DTEND;TZID=UTC:20260625T160000
DTSTAMP:20260420T113953
CREATED:20251118T131942Z
LAST-MODIFIED:20260317T093626Z
UID:249603-1782396000-1782403200@www.teamdefence.info
SUMMARY:Integrated Product Support (IPS) CoP
DESCRIPTION:To support the UK MoD and UK industry in improving Supportability Engineering (ILS) standards\, processes (technical and management) and training in order to improve the effectiveness and the efficiency of Supportability Engineering (ILS) programmes and hence ultimately to improve the effectiveness and efficiency of the Total System (comprising the System of Interest\, the Support System and the Concept of Employment). That is\, we strive to improve the Whole Life Cost Effectiveness of the “System of Interest”. \nThis meeting will be a hybrid event with the in person element taking place at: \nCDS Defence and Security \nThe Bramery\, 44 Alstone Lane \nCheltenham \nGL51 8HE \nAnd virtually via MS Teams. \n			\n			\n				\n				\n				\n				\n				\n				\n				\n				\n				\n				\n			\n				\n				\n				\n				\n				\nRegister here
URL:https://www.teamdefence.info/event/integrated-product-support-ips-cop-12/
LOCATION:CDS Defence & Security\, The Bramery\, 44 Alstone Lane\,\, Cheltenham\, GL51 8HE\, United Kingdom
CATEGORIES:CLEP,Community of Practice,CoP,IPS CoP,Members Only
END:VEVENT
BEGIN:VEVENT
DTSTART;TZID=UTC:20260924T140000
DTEND;TZID=UTC:20260924T160000
DTSTAMP:20260420T113953
CREATED:20251118T132115Z
LAST-MODIFIED:20251218T132257Z
UID:249605-1790258400-1790265600@www.teamdefence.info
SUMMARY:Integrated Product Support (IPS) CoP
DESCRIPTION:To support the UK MoD and UK industry in improving Supportability Engineering (ILS) standards\, processes (technical and management) and training in order to improve the effectiveness and the efficiency of Supportability Engineering (ILS) programmes and hence ultimately to improve the effectiveness and efficiency of the Total System (comprising the System of Interest\, the Support System and the Concept of Employment). That is\, we strive to improve the Whole Life Cost Effectiveness of the “System of Interest”. \n This meeting will be a hybrid event with the in person element taking place at:  \nTD-Info  \n6a Pinkers Court\, Briarlands Office Park \nRudgeway  \nBS35 3QH \nAnd virtually via MS Teams.  \n			\n			\n				\n				\n				\n				\n				\n				\n				\n				\n				\n				\n			\n				\n				\n				\n				\n				\nRegister here
URL:https://www.teamdefence.info/event/integrated-product-support-ips-cop-13/
LOCATION:TD-Info\, 6A Pinkers Court\, Briarlands Office Park\, Bristol\, BS35 3QH\, United Kingdom
CATEGORIES:CLEP,Community of Practice,CoP,IPS CoP,Members Only
END:VEVENT
BEGIN:VEVENT
DTSTART;TZID=UTC:20261203T140000
DTEND;TZID=UTC:20261203T160000
DTSTAMP:20260420T113953
CREATED:20251118T132452Z
LAST-MODIFIED:20251218T132315Z
UID:249607-1796306400-1796313600@www.teamdefence.info
SUMMARY:Integrated Product Support (IPS) CoP
DESCRIPTION:To support the UK MoD and UK industry in improving Supportability Engineering (ILS) standards\, processes (technical and management) and training in order to improve the effectiveness and the efficiency of Supportability Engineering (ILS) programmes and hence ultimately to improve the effectiveness and efficiency of the Total System (comprising the System of Interest\, the Support System and the Concept of Employment). That is\, we strive to improve the Whole Life Cost Effectiveness of the “System of Interest”. \nThis meeting will be a hybrid event with the in person element taking place at:  \nTD-Info  \n6a Pinkers Court\, Briarlands Office Park \nRudgeway  \nBS35 3QH \nAnd virtually via MS Teams.  \n			\n			\n				\n				\n				\n				\n				\n				\n				\n				\n				\n				\n			\n				\n				\n				\n				\n				\nRegister here
URL:https://www.teamdefence.info/event/integrated-product-support-ips-cop-14/
LOCATION:TD-Info\, 6A Pinkers Court\, Briarlands Office Park\, Bristol\, BS35 3QH\, United Kingdom
CATEGORIES:CLEP,Community of Practice,CoP,IPS CoP,Members Only
END:VEVENT
BEGIN:VEVENT
DTSTART;TZID=UTC:20261208T100000
DTEND;TZID=UTC:20261208T150000
DTSTAMP:20260420T113953
CREATED:20251104T155916Z
LAST-MODIFIED:20260210T121410Z
UID:249457-1796724000-1796742000@www.teamdefence.info
SUMMARY:The Supportability Modelling and Analysis CoP
DESCRIPTION:A working group that seeks to identify and promulgate good practice in life cycle cost modelling across the UK Defence sector and contribute to the realisation of the DSCM vision. \nFor further information\, please get in touch with Leyton Lark \n  \n			\n			\n				\n				\n				\n				\n				\n				\n				\n				\n				\n				\n			\n				\n				\n				\n				\n				\nRegister here
URL:https://www.teamdefence.info/event/the-supportability-modelling-and-analysis-cop-15/
LOCATION:TD-Info\, 6A Pinkers Court\, Briarlands Office Park\, Bristol\, BS35 3QH\, United Kingdom
CATEGORIES:CLEP,Members Only,SMAWG
END:VEVENT
END:VCALENDAR